BEGIN:VCALENDAR
VERSION:2.0
PRODID:-//St. John XXIII Catholic School - ECPv6.15.20//NONSGML v1.0//EN
CALSCALE:GREGORIAN
METHOD:PUBLISH
X-ORIGINAL-URL:https://stjohn23rd.school
X-WR-CALDESC:Events for St. John XXIII Catholic School
REFRESH-INTERVAL;VALUE=DURATION:PT1H
X-Robots-Tag:noindex
X-PUBLISHED-TTL:PT1H
BEGIN:VTIMEZONE
TZID:America/Chicago
BEGIN:DAYLIGHT
TZOFFSETFROM:-0600
TZOFFSETTO:-0500
TZNAME:CDT
DTSTART:20250309T080000
END:DAYLIGHT
BEGIN:STANDARD
TZOFFSETFROM:-0500
TZOFFSETTO:-0600
TZNAME:CST
DTSTART:20251102T070000
END:STANDARD
BEGIN:DAYLIGHT
TZOFFSETFROM:-0600
TZOFFSETTO:-0500
TZNAME:CDT
DTSTART:20260308T080000
END:DAYLIGHT
BEGIN:STANDARD
TZOFFSETFROM:-0500
TZOFFSETTO:-0600
TZNAME:CST
DTSTART:20261101T070000
END:STANDARD
BEGIN:DAYLIGHT
TZOFFSETFROM:-0600
TZOFFSETTO:-0500
TZNAME:CDT
DTSTART:20270314T080000
END:DAYLIGHT
BEGIN:STANDARD
TZOFFSETFROM:-0500
TZOFFSETTO:-0600
TZNAME:CST
DTSTART:20271107T070000
END:STANDARD
END:VTIMEZONE
BEGIN:VEVENT
DTSTART;VALUE=DATE:20260201
DTEND;VALUE=DATE:20260501
DTSTAMP:20260424T065720
CREATED:20260106T205330Z
LAST-MODIFIED:20260424T113725Z
UID:10001526-1769904000-1777593599@stjohn23rd.school
SUMMARY:FACTS Tuition Assistance Application Open
DESCRIPTION:
URL:https://stjohn23rd.school/event/facts-tuition-assistance-application-open/
END:VEVENT
BEGIN:VEVENT
DTSTART;VALUE=DATE:20260316
DTEND;VALUE=DATE:20260425
DTSTAMP:20260424T065720
CREATED:20250709T152345Z
LAST-MODIFIED:20260424T113711Z
UID:10001353-1773619200-1777075199@stjohn23rd.school
SUMMARY:Forward Exams
DESCRIPTION:
URL:https://stjohn23rd.school/event/forward-exams-3/
END:VEVENT
BEGIN:VEVENT
DTSTART;VALUE=DATE:20260330
DTEND;VALUE=DATE:20260404
DTSTAMP:20260424T065720
CREATED:20250709T152347Z
LAST-MODIFIED:20260331T032245Z
UID:10001357-1774828800-1775260799@stjohn23rd.school
SUMMARY:Elementary and Middle School Retreats for Holy Week
DESCRIPTION:
URL:https://stjohn23rd.school/event/elementary-and-middle-school-retreats-for-holy-week-2/
END:VEVENT
BEGIN:VEVENT
DTSTART;VALUE=DATE:20260401
DTEND;VALUE=DATE:20260421
DTSTAMP:20260424T065720
CREATED:20260130T191005Z
LAST-MODIFIED:20260420T235308Z
UID:10001538-1775001600-1776729599@stjohn23rd.school
SUMMARY:School Choice Enrollment Open
DESCRIPTION:Apply Here
URL:https://stjohn23rd.school/event/school-choice-enrollment-open-3/
END:VEVENT
BEGIN:VEVENT
DTSTART;VALUE=DATE:20260403
DTEND;VALUE=DATE:20260404
DTSTAMP:20260424T065720
CREATED:20250916T222523Z
LAST-MODIFIED:20260117T124443Z
UID:10001429-1775174400-1775260799@stjohn23rd.school
SUMMARY:Out of Uniform Day!
DESCRIPTION:
URL:https://stjohn23rd.school/event/out-of-uniform-day-12/
END:VEVENT
BEGIN:VEVENT
DTSTART;VALUE=DATE:20260403
DTEND;VALUE=DATE:20260404
DTSTAMP:20260424T065720
CREATED:20260215T175300Z
LAST-MODIFIED:20260403T235254Z
UID:10001558-1775174400-1775260799@stjohn23rd.school
SUMMARY:Good Friday
DESCRIPTION:
URL:https://stjohn23rd.school/event/good-friday/
END:VEVENT
BEGIN:VEVENT
DTSTART;VALUE=DATE:20260403
DTEND;VALUE=DATE:20260413
DTSTAMP:20260424T065720
CREATED:20250709T152347Z
LAST-MODIFIED:20260412T234201Z
UID:10001356-1775174400-1776038399@stjohn23rd.school
SUMMARY:NO SCHOOL: Spring Break 🏖️
DESCRIPTION:
URL:https://stjohn23rd.school/event/spring-break-2/
END:VEVENT
END:VCALENDAR