BEGIN:VCALENDAR
VERSION:2.0
PRODID:-//St. John XXIII Catholic School - ECPv6.15.20//NONSGML v1.0//EN
CALSCALE:GREGORIAN
METHOD:PUBLISH
X-WR-CALNAME:St. John XXIII Catholic School
X-ORIGINAL-URL:https://stjohn23rd.school
X-WR-CALDESC:Events for St. John XXIII Catholic School
REFRESH-INTERVAL;VALUE=DURATION:PT1H
X-Robots-Tag:noindex
X-PUBLISHED-TTL:PT1H
BEGIN:VTIMEZONE
TZID:America/Chicago
BEGIN:DAYLIGHT
TZOFFSETFROM:-0600
TZOFFSETTO:-0500
TZNAME:CDT
DTSTART:20250309T080000
END:DAYLIGHT
BEGIN:STANDARD
TZOFFSETFROM:-0500
TZOFFSETTO:-0600
TZNAME:CST
DTSTART:20251102T070000
END:STANDARD
BEGIN:DAYLIGHT
TZOFFSETFROM:-0600
TZOFFSETTO:-0500
TZNAME:CDT
DTSTART:20260308T080000
END:DAYLIGHT
BEGIN:STANDARD
TZOFFSETFROM:-0500
TZOFFSETTO:-0600
TZNAME:CST
DTSTART:20261101T070000
END:STANDARD
BEGIN:DAYLIGHT
TZOFFSETFROM:-0600
TZOFFSETTO:-0500
TZNAME:CDT
DTSTART:20270314T080000
END:DAYLIGHT
BEGIN:STANDARD
TZOFFSETFROM:-0500
TZOFFSETTO:-0600
TZNAME:CST
DTSTART:20271107T070000
END:STANDARD
END:VTIMEZONE
BEGIN:VEVENT
DTSTART;VALUE=DATE:20260201
DTEND;VALUE=DATE:20260501
DTSTAMP:20260424T063732
CREATED:20260106T205330Z
LAST-MODIFIED:20260424T113725Z
UID:10001526-1769904000-1777593599@stjohn23rd.school
SUMMARY:FACTS Tuition Assistance Application Open
DESCRIPTION:
URL:https://stjohn23rd.school/event/facts-tuition-assistance-application-open/
END:VEVENT
BEGIN:VEVENT
DTSTART;VALUE=DATE:20260316
DTEND;VALUE=DATE:20260425
DTSTAMP:20260424T063732
CREATED:20250709T152345Z
LAST-MODIFIED:20260424T113711Z
UID:10001353-1773619200-1777075199@stjohn23rd.school
SUMMARY:Forward Exams
DESCRIPTION:
URL:https://stjohn23rd.school/event/forward-exams-3/
END:VEVENT
BEGIN:VEVENT
DTSTART;VALUE=DATE:20260419
DTEND;VALUE=DATE:20260426
DTSTAMP:20260424T063732
CREATED:20250709T152349Z
LAST-MODIFIED:20260424T113711Z
UID:10001360-1776556800-1777161599@stjohn23rd.school
SUMMARY:Volunteer Appreciation Week
DESCRIPTION:
URL:https://stjohn23rd.school/event/volunteer-appreciation-week-2/
END:VEVENT
BEGIN:VEVENT
DTSTART;VALUE=DATE:20260419
DTEND;VALUE=DATE:20260426
DTSTAMP:20260424T063732
CREATED:20260211T215329Z
LAST-MODIFIED:20260424T113711Z
UID:10001545-1776556800-1777161599@stjohn23rd.school
SUMMARY:Safe Environment Week
DESCRIPTION:
URL:https://stjohn23rd.school/event/safe-environment-week/
END:VEVENT
BEGIN:VEVENT
DTSTART;TZID=America/Chicago:20260421T090000
DTEND;TZID=America/Chicago:20260421T093000
DTSTAMP:20260424T063732
CREATED:20240421T010858Z
LAST-MODIFIED:20260215T163823Z
UID:10000511-1776762000-1776763800@stjohn23rd.school
SUMMARY:Mass
DESCRIPTION:
URL:https://stjohn23rd.school/event/mass-137/
END:VEVENT
BEGIN:VEVENT
DTSTART;TZID=America/Chicago:20260421T090000
DTEND;TZID=America/Chicago:20260421T093000
DTSTAMP:20260424T063732
CREATED:20260215T175319Z
LAST-MODIFIED:20260421T142336Z
UID:10001561-1776762000-1776763800@stjohn23rd.school
SUMMARY:Mass ⛪️
DESCRIPTION:
URL:https://stjohn23rd.school/event/mass-%e2%9b%aa%ef%b8%8f-11/
END:VEVENT
BEGIN:VEVENT
DTSTART;TZID=America/Chicago:20260421T090000
DTEND;TZID=America/Chicago:20260421T100000
DTSTAMP:20260424T063732
CREATED:20260318T202301Z
LAST-MODIFIED:20260421T145226Z
UID:10001677-1776762000-1776765600@stjohn23rd.school
SUMMARY:Volunteer Appreciation Mass - ALL Parent Volunteers Invited
DESCRIPTION:
URL:https://stjohn23rd.school/event/volunteer-appreciation-mass-all-parent-volunteers-invited/
END:VEVENT
BEGIN:VEVENT
DTSTART;TZID=America/Chicago:20260421T183000
DTEND;TZID=America/Chicago:20260421T193000
DTSTAMP:20260424T063732
CREATED:20240421T010858Z
LAST-MODIFIED:20250610T005629Z
UID:10000512-1776796200-1776799800@stjohn23rd.school
SUMMARY:Home & School Meeting
DESCRIPTION:
URL:https://stjohn23rd.school/event/home-school-meeting-32/
END:VEVENT
END:VCALENDAR