BEGIN:VCALENDAR
VERSION:2.0
PRODID:-//St. John XXIII Catholic School - ECPv6.15.20//NONSGML v1.0//EN
CALSCALE:GREGORIAN
METHOD:PUBLISH
X-ORIGINAL-URL:https://stjohn23rd.school
X-WR-CALDESC:Events for St. John XXIII Catholic School
REFRESH-INTERVAL;VALUE=DURATION:PT1H
X-Robots-Tag:noindex
X-PUBLISHED-TTL:PT1H
BEGIN:VTIMEZONE
TZID:America/Chicago
BEGIN:DAYLIGHT
TZOFFSETFROM:-0600
TZOFFSETTO:-0500
TZNAME:CDT
DTSTART:20250309T080000
END:DAYLIGHT
BEGIN:STANDARD
TZOFFSETFROM:-0500
TZOFFSETTO:-0600
TZNAME:CST
DTSTART:20251102T070000
END:STANDARD
BEGIN:DAYLIGHT
TZOFFSETFROM:-0600
TZOFFSETTO:-0500
TZNAME:CDT
DTSTART:20260308T080000
END:DAYLIGHT
BEGIN:STANDARD
TZOFFSETFROM:-0500
TZOFFSETTO:-0600
TZNAME:CST
DTSTART:20261101T070000
END:STANDARD
BEGIN:DAYLIGHT
TZOFFSETFROM:-0600
TZOFFSETTO:-0500
TZNAME:CDT
DTSTART:20270314T080000
END:DAYLIGHT
BEGIN:STANDARD
TZOFFSETFROM:-0500
TZOFFSETTO:-0600
TZNAME:CST
DTSTART:20271107T070000
END:STANDARD
END:VTIMEZONE
BEGIN:VEVENT
DTSTART;VALUE=DATE:20260503
DTEND;VALUE=DATE:20260510
DTSTAMP:20260420T101441
CREATED:20250709T152353Z
LAST-MODIFIED:20260420T150740Z
UID:10001367-1777766400-1778371199@stjohn23rd.school
SUMMARY:Teacher & Staff Appreciation Week
DESCRIPTION:
URL:https://stjohn23rd.school/event/teacher-staff-appreciation-week/
END:VEVENT
BEGIN:VEVENT
DTSTART;TZID=America/Chicago:20260505T090000
DTEND;TZID=America/Chicago:20260505T093000
DTSTAMP:20260420T101441
CREATED:20240505T003735Z
LAST-MODIFIED:20260215T163834Z
UID:10000524-1777971600-1777973400@stjohn23rd.school
SUMMARY:Mass
DESCRIPTION:
URL:https://stjohn23rd.school/event/mass-139/
END:VEVENT
BEGIN:VEVENT
DTSTART;TZID=America/Chicago:20260505T090000
DTEND;TZID=America/Chicago:20260505T093000
DTSTAMP:20260420T101441
CREATED:20260215T175322Z
LAST-MODIFIED:20260420T150740Z
UID:10001563-1777971600-1777973400@stjohn23rd.school
SUMMARY:Mass ⛪️
DESCRIPTION:
URL:https://stjohn23rd.school/event/mass-%e2%9b%aa%ef%b8%8f-13/
END:VEVENT
BEGIN:VEVENT
DTSTART;TZID=America/Chicago:20260505T153000
DTEND;TZID=America/Chicago:20260505T170000
DTSTAMP:20260420T101441
CREATED:20250709T152355Z
LAST-MODIFIED:20260420T150740Z
UID:10001370-1777995000-1778000400@stjohn23rd.school
SUMMARY:7th/8th Grade Science Fair
DESCRIPTION:
URL:https://stjohn23rd.school/event/7th-8th-grade-science-fair/
END:VEVENT
END:VCALENDAR