BEGIN:VCALENDAR
VERSION:2.0
PRODID:-//St. John XXIII Catholic School - ECPv6.15.20//NONSGML v1.0//EN
CALSCALE:GREGORIAN
METHOD:PUBLISH
X-ORIGINAL-URL:https://stjohn23rd.school
X-WR-CALDESC:Events for St. John XXIII Catholic School
REFRESH-INTERVAL;VALUE=DURATION:PT1H
X-Robots-Tag:noindex
X-PUBLISHED-TTL:PT1H
BEGIN:VTIMEZONE
TZID:America/Chicago
BEGIN:DAYLIGHT
TZOFFSETFROM:-0600
TZOFFSETTO:-0500
TZNAME:CDT
DTSTART:20250309T080000
END:DAYLIGHT
BEGIN:STANDARD
TZOFFSETFROM:-0500
TZOFFSETTO:-0600
TZNAME:CST
DTSTART:20251102T070000
END:STANDARD
BEGIN:DAYLIGHT
TZOFFSETFROM:-0600
TZOFFSETTO:-0500
TZNAME:CDT
DTSTART:20260308T080000
END:DAYLIGHT
BEGIN:STANDARD
TZOFFSETFROM:-0500
TZOFFSETTO:-0600
TZNAME:CST
DTSTART:20261101T070000
END:STANDARD
BEGIN:DAYLIGHT
TZOFFSETFROM:-0600
TZOFFSETTO:-0500
TZNAME:CDT
DTSTART:20270314T080000
END:DAYLIGHT
BEGIN:STANDARD
TZOFFSETFROM:-0500
TZOFFSETTO:-0600
TZNAME:CST
DTSTART:20271107T070000
END:STANDARD
END:VTIMEZONE
BEGIN:VEVENT
DTSTART;VALUE=DATE:20260605
DTEND;VALUE=DATE:20260606
DTSTAMP:20260424T063905
CREATED:20250709T152403Z
LAST-MODIFIED:20260424T113806Z
UID:10001384-1780617600-1780703999@stjohn23rd.school
SUMMARY:Last Day of School
DESCRIPTION:
URL:https://stjohn23rd.school/event/last-day-of-school-2/
END:VEVENT
BEGIN:VEVENT
DTSTART;VALUE=DATE:20260605
DTEND;VALUE=DATE:20260606
DTSTAMP:20260424T063905
CREATED:20250916T222529Z
LAST-MODIFIED:20260424T113806Z
UID:10001431-1780617600-1780703999@stjohn23rd.school
SUMMARY:Out of Uniform Day!
DESCRIPTION:
URL:https://stjohn23rd.school/event/out-of-uniform-day-14/
END:VEVENT
BEGIN:VEVENT
DTSTART;TZID=America/Chicago:20260605T090000
DTEND;TZID=America/Chicago:20260605T100000
DTSTAMP:20260424T063905
CREATED:20260318T163807Z
LAST-MODIFIED:20260424T113806Z
UID:10001675-1780650000-1780653600@stjohn23rd.school
SUMMARY:Summer Blessing & Mission Awards
DESCRIPTION:
URL:https://stjohn23rd.school/event/prayer-service-2/
END:VEVENT
BEGIN:VEVENT
DTSTART;TZID=America/Chicago:20260605T103000
DTEND;TZID=America/Chicago:20260605T113000
DTSTAMP:20260424T063905
CREATED:20250709T152403Z
LAST-MODIFIED:20260424T113806Z
UID:10001385-1780655400-1780659000@stjohn23rd.school
SUMMARY:Foam Fun Run
DESCRIPTION:
URL:https://stjohn23rd.school/event/color-run-2/
END:VEVENT
BEGIN:VEVENT
DTSTART;TZID=America/Chicago:20260605T113500
DTEND;TZID=America/Chicago:20260605T113500
DTSTAMP:20260424T063905
CREATED:20250709T152405Z
LAST-MODIFIED:20260424T113806Z
UID:10001386-1780659300-1780659300@stjohn23rd.school
SUMMARY:Early Dismissal...Have a Wonderful Summer!
DESCRIPTION:
URL:https://stjohn23rd.school/event/early-dismissal-have-a-wonderful-summer/
END:VEVENT
END:VCALENDAR