BEGIN:VCALENDAR
VERSION:2.0
PRODID:-//St. John XXIII Catholic School - ECPv6.15.20//NONSGML v1.0//EN
CALSCALE:GREGORIAN
METHOD:PUBLISH
X-WR-CALNAME:St. John XXIII Catholic School
X-ORIGINAL-URL:https://stjohn23rd.school
X-WR-CALDESC:Events for St. John XXIII Catholic School
REFRESH-INTERVAL;VALUE=DURATION:PT1H
X-Robots-Tag:noindex
X-PUBLISHED-TTL:PT1H
BEGIN:VTIMEZONE
TZID:America/Chicago
BEGIN:DAYLIGHT
TZOFFSETFROM:-0600
TZOFFSETTO:-0500
TZNAME:CDT
DTSTART:20240310T080000
END:DAYLIGHT
BEGIN:STANDARD
TZOFFSETFROM:-0500
TZOFFSETTO:-0600
TZNAME:CST
DTSTART:20241103T070000
END:STANDARD
BEGIN:DAYLIGHT
TZOFFSETFROM:-0600
TZOFFSETTO:-0500
TZNAME:CDT
DTSTART:20250309T080000
END:DAYLIGHT
BEGIN:STANDARD
TZOFFSETFROM:-0500
TZOFFSETTO:-0600
TZNAME:CST
DTSTART:20251102T070000
END:STANDARD
BEGIN:DAYLIGHT
TZOFFSETFROM:-0600
TZOFFSETTO:-0500
TZNAME:CDT
DTSTART:20260308T080000
END:DAYLIGHT
BEGIN:STANDARD
TZOFFSETFROM:-0500
TZOFFSETTO:-0600
TZNAME:CST
DTSTART:20261101T070000
END:STANDARD
END:VTIMEZONE
BEGIN:VEVENT
DTSTART;VALUE=DATE:20251201
DTEND;VALUE=DATE:20251202
DTSTAMP:20260424T051948
CREATED:20250613T183841Z
LAST-MODIFIED:20251201T232510Z
UID:10001320-1764547200-1764633599@stjohn23rd.school
SUMMARY:Start of 2nd Trimester
DESCRIPTION:
URL:https://stjohn23rd.school/event/start-of-2nd-trimester/
END:VEVENT
BEGIN:VEVENT
DTSTART;VALUE=DATE:20251130
DTEND;VALUE=DATE:20251201
DTSTAMP:20260424T051948
CREATED:20250613T183841Z
LAST-MODIFIED:20251130T232549Z
UID:10001319-1764460800-1764547199@stjohn23rd.school
SUMMARY:Advent Begins
DESCRIPTION:
URL:https://stjohn23rd.school/event/advent-begins/
END:VEVENT
BEGIN:VEVENT
DTSTART;TZID=America/Chicago:20251126T115500
DTEND;TZID=America/Chicago:20251126T123000
DTSTAMP:20260424T051948
CREATED:20240805T172533Z
LAST-MODIFIED:20240827T165950Z
UID:10000713-1764158100-1764160200@stjohn23rd.school
SUMMARY:Student Council Meeting
DESCRIPTION:
URL:https://stjohn23rd.school/event/student-council-meeting-63/
END:VEVENT
BEGIN:VEVENT
DTSTART;VALUE=DATE:20251126
DTEND;VALUE=DATE:20251129
DTSTAMP:20260424T051948
CREATED:20250224T184229Z
LAST-MODIFIED:20251128T225616Z
UID:10001223-1764115200-1764374399@stjohn23rd.school
SUMMARY:No School (Thanksgiving Break)
DESCRIPTION:
URL:https://stjohn23rd.school/event/no-school-thanksgiving-break-3/
END:VEVENT
BEGIN:VEVENT
DTSTART;TZID=America/Chicago:20251125T113500
DTEND;TZID=America/Chicago:20251125T113500
DTSTAMP:20260424T051948
CREATED:20250224T184228Z
LAST-MODIFIED:20251125T162547Z
UID:10001222-1764070500-1764070500@stjohn23rd.school
SUMMARY:Early Dismissal
DESCRIPTION:
URL:https://stjohn23rd.school/event/early-dismissal-6/
END:VEVENT
BEGIN:VEVENT
DTSTART;TZID=America/Chicago:20251125T090000
DTEND;TZID=America/Chicago:20251125T093000
DTSTAMP:20260424T051948
CREATED:20231125T001728Z
LAST-MODIFIED:20251125T150757Z
UID:10000343-1764061200-1764063000@stjohn23rd.school
SUMMARY:Mass
DESCRIPTION:
URL:https://stjohn23rd.school/event/mass-116/
END:VEVENT
BEGIN:VEVENT
DTSTART;VALUE=DATE:20251125
DTEND;VALUE=DATE:20251126
DTSTAMP:20260424T051948
CREATED:20250613T183840Z
LAST-MODIFIED:20251125T234034Z
UID:10001317-1764028800-1764115199@stjohn23rd.school
SUMMARY:End of 1st Trimester
DESCRIPTION:
URL:https://stjohn23rd.school/event/end-of-1st-trimester-2/
END:VEVENT
BEGIN:VEVENT
DTSTART;VALUE=DATE:20251125
DTEND;VALUE=DATE:20251126
DTSTAMP:20260424T051948
CREATED:20250224T184230Z
LAST-MODIFIED:20251125T234033Z
UID:10001224-1764028800-1764115199@stjohn23rd.school
SUMMARY:Grandparent's Day
DESCRIPTION:
URL:https://stjohn23rd.school/event/grandparents-day-2/
END:VEVENT
BEGIN:VEVENT
DTSTART;VALUE=DATE:20251124
DTEND;VALUE=DATE:20251125
DTSTAMP:20260424T051948
CREATED:20250613T183840Z
LAST-MODIFIED:20251124T235358Z
UID:10001318-1763942400-1764028799@stjohn23rd.school
SUMMARY:Museum of WI Art Field Trip (5th-6th Grade)
DESCRIPTION:
URL:https://stjohn23rd.school/event/museum-of-wi-art-field-trip-5th-6th-grade/
END:VEVENT
BEGIN:VEVENT
DTSTART;VALUE=DATE:20251121
DTEND;VALUE=DATE:20251122
DTSTAMP:20260424T051948
CREATED:20250916T222509Z
LAST-MODIFIED:20251121T235941Z
UID:10001423-1763683200-1763769599@stjohn23rd.school
SUMMARY:Spirit Day (Team Jersey or Spirit Wear with Uniform Bottoms)
DESCRIPTION:
URL:https://stjohn23rd.school/event/spirit-day-team-jersey-or-spirit-wear-with-uniform-bottoms-7/
END:VEVENT
BEGIN:VEVENT
DTSTART;TZID=America/Chicago:20251120T112500
DTEND;TZID=America/Chicago:20251120T121000
DTSTAMP:20260424T051948
CREATED:20251016T172251Z
LAST-MODIFIED:20251120T174025Z
UID:10001476-1763637900-1763640600@stjohn23rd.school
SUMMARY:Student Council Meeting
DESCRIPTION:
URL:https://stjohn23rd.school/event/student-council-meeting-108/
END:VEVENT
BEGIN:VEVENT
DTSTART;TZID=America/Chicago:20251120T111500
DTEND;TZID=America/Chicago:20251120T121500
DTSTAMP:20260424T051948
CREATED:20251016T172253Z
LAST-MODIFIED:20251113T183850Z
UID:10001477-1763637300-1763640900@stjohn23rd.school
SUMMARY:PIZZA PARTY FOR STUDENT COUNCIL
DESCRIPTION:
URL:https://stjohn23rd.school/event/pizza-party-for-student-council/
END:VEVENT
BEGIN:VEVENT
DTSTART;TZID=America/Chicago:20251119T153000
DTEND;TZID=America/Chicago:20251119T163000
DTSTAMP:20260424T051948
CREATED:20250613T183835Z
LAST-MODIFIED:20251119T222606Z
UID:10001316-1763566200-1763569800@stjohn23rd.school
SUMMARY:Extracurricular Clubs (Session 1)
DESCRIPTION:
URL:https://stjohn23rd.school/event/extracurricular-clubs-session-1-10/
END:VEVENT
BEGIN:VEVENT
DTSTART;TZID=America/Chicago:20251119T115500
DTEND;TZID=America/Chicago:20251119T123000
DTSTAMP:20260424T051948
CREATED:20240805T172533Z
LAST-MODIFIED:20240827T165949Z
UID:10000712-1763553300-1763555400@stjohn23rd.school
SUMMARY:Student Council Meeting
DESCRIPTION:
URL:https://stjohn23rd.school/event/student-council-meeting-62/
END:VEVENT
BEGIN:VEVENT
DTSTART;TZID=America/Chicago:20251118T183000
DTEND;TZID=America/Chicago:20251118T193000
DTSTAMP:20260424T051948
CREATED:20231119T001705Z
LAST-MODIFIED:20250610T005626Z
UID:10000342-1763490600-1763494200@stjohn23rd.school
SUMMARY:Home & School Meeting
DESCRIPTION:
URL:https://stjohn23rd.school/event/home-school-meeting-27/
END:VEVENT
BEGIN:VEVENT
DTSTART;TZID=America/Chicago:20251118T090000
DTEND;TZID=America/Chicago:20251118T093000
DTSTAMP:20260424T051948
CREATED:20231118T010012Z
LAST-MODIFIED:20251118T152758Z
UID:10000341-1763456400-1763458200@stjohn23rd.school
SUMMARY:Mass
DESCRIPTION:
URL:https://stjohn23rd.school/event/mass-115/
END:VEVENT
BEGIN:VEVENT
DTSTART;TZID=America/Chicago:20251116T120000
DTEND;TZID=America/Chicago:20251116T150000
DTSTAMP:20260424T051948
CREATED:20250925T165254Z
LAST-MODIFIED:20251116T200924Z
UID:10001454-1763294400-1763305200@stjohn23rd.school
SUMMARY:Winter Gymboree
DESCRIPTION:
URL:https://stjohn23rd.school/event/winter-gymboree-30/
END:VEVENT
BEGIN:VEVENT
DTSTART;TZID=America/Chicago:20251114T113000
DTEND;TZID=America/Chicago:20251114T123000
DTSTAMP:20260424T051948
CREATED:20251002T183746Z
LAST-MODIFIED:20251114T181321Z
UID:10001464-1763119800-1763123400@stjohn23rd.school
SUMMARY:Student Council Root Beer Float Sale (Bring $2 to Participate)
DESCRIPTION:
URL:https://stjohn23rd.school/event/student-council-root-beer-float-sale-bring-2-to-participate/
END:VEVENT
BEGIN:VEVENT
DTSTART;VALUE=DATE:20251114
DTEND;VALUE=DATE:20251115
DTSTAMP:20260424T051948
CREATED:20250916T222507Z
LAST-MODIFIED:20251114T225827Z
UID:10001422-1763078400-1763164799@stjohn23rd.school
SUMMARY:Spirit Day (Team Jersey or Spirit Wear with Uniform Bottoms)
DESCRIPTION:
URL:https://stjohn23rd.school/event/spirit-day-team-jersey-or-spirit-wear-with-uniform-bottoms-6/
END:VEVENT
BEGIN:VEVENT
DTSTART;TZID=America/Chicago:20251112T163000
DTEND;TZID=America/Chicago:20251112T200000
DTSTAMP:20260424T051948
CREATED:20250916T222506Z
LAST-MODIFIED:20251113T012354Z
UID:10001421-1762965000-1762977600@stjohn23rd.school
SUMMARY:Pear & Simple Christmas Shopping Event (Proceeds to Benefit Key Event)
DESCRIPTION:
URL:https://stjohn23rd.school/event/pear-simple-christmas-shopping-event-proceeds-to-benefit-key-event/
LOCATION:Pear & Simple\, 314 N Franklin St\, Port Washington\, WI\, United States
GEO:43.389888;-87.869292
X-APPLE-STRUCTURED-LOCATION;VALUE=URI;X-ADDRESS=Pear & Simple 314 N Franklin St Port Washington WI United States;X-APPLE-RADIUS=500;X-TITLE=314 N Franklin St:geo:-87.869292,43.389888
END:VEVENT
BEGIN:VEVENT
DTSTART;TZID=America/Chicago:20251112T115500
DTEND;TZID=America/Chicago:20251112T123000
DTSTAMP:20260424T051948
CREATED:20240805T172532Z
LAST-MODIFIED:20240827T165949Z
UID:10000711-1762948500-1762950600@stjohn23rd.school
SUMMARY:Student Council Meeting
DESCRIPTION:
URL:https://stjohn23rd.school/event/student-council-meeting-61/
END:VEVENT
BEGIN:VEVENT
DTSTART;VALUE=DATE:20251112
DTEND;VALUE=DATE:20251113
DTSTAMP:20260424T051948
CREATED:20251015T173849Z
LAST-MODIFIED:20251112T225603Z
UID:10001473-1762905600-1762991999@stjohn23rd.school
SUMMARY:Milwaukee Admirals Game - 5th - 8th Grade
DESCRIPTION:
URL:https://stjohn23rd.school/event/milwaukee-admirals-game-5th-8th-grade/
END:VEVENT
BEGIN:VEVENT
DTSTART;TZID=America/Chicago:20251111T183000
DTEND;TZID=America/Chicago:20251111T193000
DTSTAMP:20260424T051948
CREATED:20231112T004001Z
LAST-MODIFIED:20240104T162659Z
UID:10000340-1762885800-1762889400@stjohn23rd.school
SUMMARY:School Advisory Commission
DESCRIPTION:Join with Google Hangouts: https://plus.google.com/hangouts/_/portcatholic.org/portcatholic?hceid=cG9ydGNhdGhvbGljQGdtYWlsLmNvbQ.2a69dvmal0ns80unb7jpod7t5s&hs=121
URL:https://stjohn23rd.school/event/school-advisory-commission-27/
END:VEVENT
BEGIN:VEVENT
DTSTART;TZID=America/Chicago:20251111T090000
DTEND;TZID=America/Chicago:20251111T093000
DTSTAMP:20260424T051948
CREATED:20231111T011753Z
LAST-MODIFIED:20251111T144224Z
UID:10000339-1762851600-1762853400@stjohn23rd.school
SUMMARY:Mass
DESCRIPTION:
URL:https://stjohn23rd.school/event/mass-114/
END:VEVENT
BEGIN:VEVENT
DTSTART;TZID=America/Chicago:20251108T183000
DTEND;TZID=America/Chicago:20251108T210000
DTSTAMP:20260424T051948
CREATED:20240108T191219Z
LAST-MODIFIED:20251109T022632Z
UID:10000387-1762626600-1762635600@stjohn23rd.school
SUMMARY:BINGO
DESCRIPTION:
URL:https://stjohn23rd.school/event/bingo-22/
LOCATION:School Cafeteria
END:VEVENT
BEGIN:VEVENT
DTSTART;TZID=America/Chicago:20251107T113500
DTEND;TZID=America/Chicago:20251107T141500
DTSTAMP:20260424T051948
CREATED:20250613T183834Z
LAST-MODIFIED:20251107T200936Z
UID:10001315-1762515300-1762524900@stjohn23rd.school
SUMMARY:Feed My Starving Children (6th-8th Grade)
DESCRIPTION:
URL:https://stjohn23rd.school/event/feed-my-starving-children-6th-8th-grade/
END:VEVENT
BEGIN:VEVENT
DTSTART;VALUE=DATE:20251107
DTEND;VALUE=DATE:20251108
DTSTAMP:20260424T051948
CREATED:20250916T222504Z
LAST-MODIFIED:20251107T235338Z
UID:10001420-1762473600-1762559999@stjohn23rd.school
SUMMARY:Out of Uniform Day!
DESCRIPTION:
URL:https://stjohn23rd.school/event/out-of-uniform-day-9/
END:VEVENT
BEGIN:VEVENT
DTSTART;TZID=America/Chicago:20251106T112500
DTEND;TZID=America/Chicago:20251106T121000
DTSTAMP:20260424T051948
CREATED:20251016T172250Z
LAST-MODIFIED:20251016T172250Z
UID:10001474-1762428300-1762431000@stjohn23rd.school
SUMMARY:Student Council Meeting
DESCRIPTION:
URL:https://stjohn23rd.school/event/student-council-meeting-107/
END:VEVENT
BEGIN:VEVENT
DTSTART;TZID=America/Chicago:20251106T112500
DTEND;TZID=America/Chicago:20251106T121000
DTSTAMP:20260424T051948
CREATED:20251016T172247Z
LAST-MODIFIED:20251106T175450Z
UID:10001475-1762428300-1762431000@stjohn23rd.school
SUMMARY:Student Council Meeting
DESCRIPTION:
URL:https://stjohn23rd.school/event/student-council-meeting-106/
END:VEVENT
BEGIN:VEVENT
DTSTART;TZID=America/Chicago:20251105T153000
DTEND;TZID=America/Chicago:20251105T163000
DTSTAMP:20260424T051948
CREATED:20250613T183833Z
LAST-MODIFIED:20251105T214150Z
UID:10001314-1762356600-1762360200@stjohn23rd.school
SUMMARY:Extracurricular Clubs (Session 1)
DESCRIPTION:
URL:https://stjohn23rd.school/event/extracurricular-clubs-session-1-9/
END:VEVENT
END:VCALENDAR