BEGIN:VCALENDAR
VERSION:2.0
PRODID:-//St. John XXIII Catholic School - ECPv6.15.20//NONSGML v1.0//EN
CALSCALE:GREGORIAN
METHOD:PUBLISH
X-WR-CALNAME:St. John XXIII Catholic School
X-ORIGINAL-URL:https://stjohn23rd.school
X-WR-CALDESC:Events for St. John XXIII Catholic School
REFRESH-INTERVAL;VALUE=DURATION:PT1H
X-Robots-Tag:noindex
X-PUBLISHED-TTL:PT1H
BEGIN:VTIMEZONE
TZID:America/Chicago
BEGIN:DAYLIGHT
TZOFFSETFROM:-0600
TZOFFSETTO:-0500
TZNAME:CDT
DTSTART:20250309T080000
END:DAYLIGHT
BEGIN:STANDARD
TZOFFSETFROM:-0500
TZOFFSETTO:-0600
TZNAME:CST
DTSTART:20251102T070000
END:STANDARD
BEGIN:DAYLIGHT
TZOFFSETFROM:-0600
TZOFFSETTO:-0500
TZNAME:CDT
DTSTART:20260308T080000
END:DAYLIGHT
BEGIN:STANDARD
TZOFFSETFROM:-0500
TZOFFSETTO:-0600
TZNAME:CST
DTSTART:20261101T070000
END:STANDARD
BEGIN:DAYLIGHT
TZOFFSETFROM:-0600
TZOFFSETTO:-0500
TZNAME:CDT
DTSTART:20270314T080000
END:DAYLIGHT
BEGIN:STANDARD
TZOFFSETFROM:-0500
TZOFFSETTO:-0600
TZNAME:CST
DTSTART:20271107T070000
END:STANDARD
END:VTIMEZONE
BEGIN:VEVENT
DTSTART;TZID=America/Chicago:20260415T153000
DTEND;TZID=America/Chicago:20260415T163000
DTSTAMP:20260422T131920
CREATED:20250709T152349Z
LAST-MODIFIED:20260415T205708Z
UID:10001359-1776267000-1776270600@stjohn23rd.school
SUMMARY:LAST Extracurricular Clubs Session 2 🖍️
DESCRIPTION:
URL:https://stjohn23rd.school/event/extracurricular-clubs-session-2-11/
END:VEVENT
BEGIN:VEVENT
DTSTART;TZID=America/Chicago:20260416T112500
DTEND;TZID=America/Chicago:20260416T121000
DTSTAMP:20260422T131920
CREATED:20251016T172328Z
LAST-MODIFIED:20260215T163822Z
UID:10001487-1776338700-1776341400@stjohn23rd.school
SUMMARY:Student Council Meeting
DESCRIPTION:
URL:https://stjohn23rd.school/event/student-council-meeting-118/
END:VEVENT
BEGIN:VEVENT
DTSTART;VALUE=DATE:20260419
DTEND;VALUE=DATE:20260426
DTSTAMP:20260422T131920
CREATED:20250709T152349Z
LAST-MODIFIED:20260422T180845Z
UID:10001360-1776556800-1777161599@stjohn23rd.school
SUMMARY:Volunteer Appreciation Week
DESCRIPTION:
URL:https://stjohn23rd.school/event/volunteer-appreciation-week-2/
END:VEVENT
BEGIN:VEVENT
DTSTART;VALUE=DATE:20260419
DTEND;VALUE=DATE:20260426
DTSTAMP:20260422T131920
CREATED:20260211T215329Z
LAST-MODIFIED:20260422T180845Z
UID:10001545-1776556800-1777161599@stjohn23rd.school
SUMMARY:Safe Environment Week
DESCRIPTION:
URL:https://stjohn23rd.school/event/safe-environment-week/
END:VEVENT
BEGIN:VEVENT
DTSTART;VALUE=DATE:20260420
DTEND;VALUE=DATE:20260421
DTSTAMP:20260422T131920
CREATED:20260318T163729Z
LAST-MODIFIED:20260420T235308Z
UID:10001674-1776643200-1776729599@stjohn23rd.school
SUMMARY:Bring $2 and Wear Blue Day - Help Support United Way Northern Ozaukee
DESCRIPTION:
URL:https://stjohn23rd.school/event/wear-blue-day/
END:VEVENT
BEGIN:VEVENT
DTSTART;TZID=America/Chicago:20260421T090000
DTEND;TZID=America/Chicago:20260421T093000
DTSTAMP:20260422T131920
CREATED:20240421T010858Z
LAST-MODIFIED:20260215T163823Z
UID:10000511-1776762000-1776763800@stjohn23rd.school
SUMMARY:Mass
DESCRIPTION:
URL:https://stjohn23rd.school/event/mass-137/
END:VEVENT
BEGIN:VEVENT
DTSTART;TZID=America/Chicago:20260421T090000
DTEND;TZID=America/Chicago:20260421T093000
DTSTAMP:20260422T131920
CREATED:20260215T175319Z
LAST-MODIFIED:20260421T142336Z
UID:10001561-1776762000-1776763800@stjohn23rd.school
SUMMARY:Mass ⛪️
DESCRIPTION:
URL:https://stjohn23rd.school/event/mass-%e2%9b%aa%ef%b8%8f-11/
END:VEVENT
BEGIN:VEVENT
DTSTART;TZID=America/Chicago:20260421T090000
DTEND;TZID=America/Chicago:20260421T100000
DTSTAMP:20260422T131920
CREATED:20260318T202301Z
LAST-MODIFIED:20260421T145226Z
UID:10001677-1776762000-1776765600@stjohn23rd.school
SUMMARY:Volunteer Appreciation Mass - ALL Parent Volunteers Invited
DESCRIPTION:
URL:https://stjohn23rd.school/event/volunteer-appreciation-mass-all-parent-volunteers-invited/
END:VEVENT
BEGIN:VEVENT
DTSTART;TZID=America/Chicago:20260421T183000
DTEND;TZID=America/Chicago:20260421T193000
DTSTAMP:20260422T131920
CREATED:20240421T010858Z
LAST-MODIFIED:20250610T005629Z
UID:10000512-1776796200-1776799800@stjohn23rd.school
SUMMARY:Home & School Meeting
DESCRIPTION:
URL:https://stjohn23rd.school/event/home-school-meeting-32/
END:VEVENT
BEGIN:VEVENT
DTSTART;TZID=America/Chicago:20260422T180000
DTEND;TZID=America/Chicago:20260422T190000
DTSTAMP:20260422T131920
CREATED:20260414T180720Z
LAST-MODIFIED:20260422T180845Z
UID:10001688-1776880800-1776884400@stjohn23rd.school
SUMMARY:8th Grade Class Trip Planning
DESCRIPTION:Room 125
URL:https://stjohn23rd.school/event/8th-grade-class-trip-planning/
END:VEVENT
BEGIN:VEVENT
DTSTART;TZID=America/Chicago:20260423T173000
DTEND;TZID=America/Chicago:20260423T190000
DTSTAMP:20260422T131920
CREATED:20250709T152350Z
LAST-MODIFIED:20260422T180845Z
UID:10001361-1776965400-1776970800@stjohn23rd.school
SUMMARY:Student Art Show Open House
DESCRIPTION:
URL:https://stjohn23rd.school/event/student-art-show/
END:VEVENT
BEGIN:VEVENT
DTSTART;VALUE=DATE:20260424
DTEND;VALUE=DATE:20260425
DTSTAMP:20260422T131920
CREATED:20260414T153905Z
LAST-MODIFIED:20260422T180845Z
UID:10001687-1776988800-1777075199@stjohn23rd.school
SUMMARY:Out of Uniform for Students
DESCRIPTION:
URL:https://stjohn23rd.school/event/out-of-uniform-for-students/
END:VEVENT
BEGIN:VEVENT
DTSTART;TZID=America/Chicago:20260424T153000
DTEND;TZID=America/Chicago:20260424T211500
DTSTAMP:20260422T131920
CREATED:20260319T182242Z
LAST-MODIFIED:20260422T180845Z
UID:10001678-1777044600-1777065300@stjohn23rd.school
SUMMARY:Middle School Hangout Night
DESCRIPTION:
URL:https://stjohn23rd.school/event/middle-school-hangout-night/
END:VEVENT
BEGIN:VEVENT
DTSTART;TZID=America/Chicago:20260428T090000
DTEND;TZID=America/Chicago:20260428T093000
DTSTAMP:20260422T131920
CREATED:20240428T005343Z
LAST-MODIFIED:20260215T163823Z
UID:10000522-1777366800-1777368600@stjohn23rd.school
SUMMARY:Mass
DESCRIPTION:
URL:https://stjohn23rd.school/event/mass-138/
END:VEVENT
BEGIN:VEVENT
DTSTART;TZID=America/Chicago:20260428T090000
DTEND;TZID=America/Chicago:20260428T093000
DTSTAMP:20260422T131920
CREATED:20260215T175320Z
LAST-MODIFIED:20260422T180845Z
UID:10001562-1777366800-1777368600@stjohn23rd.school
SUMMARY:Mass ⛪️
DESCRIPTION:
URL:https://stjohn23rd.school/event/mass-%e2%9b%aa%ef%b8%8f-12/
END:VEVENT
BEGIN:VEVENT
DTSTART;VALUE=DATE:20260429
DTEND;VALUE=DATE:20260430
DTSTAMP:20260422T131920
CREATED:20250709T152351Z
LAST-MODIFIED:20260422T180903Z
UID:10001362-1777420800-1777507199@stjohn23rd.school
SUMMARY:Madison Field Trip (4th Grade)
DESCRIPTION:
URL:https://stjohn23rd.school/event/madison-field-trip-4th-grade-3/
END:VEVENT
BEGIN:VEVENT
DTSTART;VALUE=DATE:20260430
DTEND;VALUE=DATE:20260501
DTSTAMP:20260422T131920
CREATED:20260224T213747Z
LAST-MODIFIED:20260422T180903Z
UID:10001666-1777507200-1777593599@stjohn23rd.school
SUMMARY:Discovery World Field Trip - 5th-8th Grade
DESCRIPTION:
URL:https://stjohn23rd.school/event/discovery-world-field-trip-5th-8th-grade/
END:VEVENT
BEGIN:VEVENT
DTSTART;VALUE=DATE:20260501
DTEND;VALUE=DATE:20260502
DTSTAMP:20260422T131920
CREATED:20250709T152351Z
LAST-MODIFIED:20260422T180903Z
UID:10001363-1777593600-1777679999@stjohn23rd.school
SUMMARY:No School for Students | Professional Learning Day for Teachers
DESCRIPTION:
URL:https://stjohn23rd.school/event/no-school-for-students-professional-learning-day-for-teachers-2/
END:VEVENT
BEGIN:VEVENT
DTSTART;VALUE=DATE:20260501
DTEND;VALUE=DATE:20260502
DTSTAMP:20260422T131920
CREATED:20250916T222525Z
LAST-MODIFIED:20260215T163834Z
UID:10001430-1777593600-1777679999@stjohn23rd.school
SUMMARY:Out of Uniform Day!
DESCRIPTION:
URL:https://stjohn23rd.school/event/out-of-uniform-day-13/
END:VEVENT
BEGIN:VEVENT
DTSTART;VALUE=DATE:20260501
DTEND;VALUE=DATE:20260502
DTSTAMP:20260422T131920
CREATED:20260415T140732Z
LAST-MODIFIED:20260422T180845Z
UID:10001689-1777593600-1777679999@stjohn23rd.school
SUMMARY:Grad Grams Due
DESCRIPTION:
URL:https://stjohn23rd.school/event/grad-grams-due/
END:VEVENT
BEGIN:VEVENT
DTSTART;VALUE=DATE:20260503
DTEND;VALUE=DATE:20260510
DTSTAMP:20260422T131920
CREATED:20250709T152353Z
LAST-MODIFIED:20260422T180904Z
UID:10001367-1777766400-1778371199@stjohn23rd.school
SUMMARY:Teacher & Staff Appreciation Week
DESCRIPTION:
URL:https://stjohn23rd.school/event/teacher-staff-appreciation-week/
END:VEVENT
BEGIN:VEVENT
DTSTART;TZID=America/Chicago:20260505T090000
DTEND;TZID=America/Chicago:20260505T093000
DTSTAMP:20260422T131920
CREATED:20240505T003735Z
LAST-MODIFIED:20260215T163834Z
UID:10000524-1777971600-1777973400@stjohn23rd.school
SUMMARY:Mass
DESCRIPTION:
URL:https://stjohn23rd.school/event/mass-139/
END:VEVENT
BEGIN:VEVENT
DTSTART;TZID=America/Chicago:20260505T090000
DTEND;TZID=America/Chicago:20260505T093000
DTSTAMP:20260422T131920
CREATED:20260215T175322Z
LAST-MODIFIED:20260422T180904Z
UID:10001563-1777971600-1777973400@stjohn23rd.school
SUMMARY:Mass ⛪️
DESCRIPTION:
URL:https://stjohn23rd.school/event/mass-%e2%9b%aa%ef%b8%8f-13/
END:VEVENT
BEGIN:VEVENT
DTSTART;TZID=America/Chicago:20260505T153000
DTEND;TZID=America/Chicago:20260505T170000
DTSTAMP:20260422T131920
CREATED:20250709T152355Z
LAST-MODIFIED:20260422T180904Z
UID:10001370-1777995000-1778000400@stjohn23rd.school
SUMMARY:7th/8th Grade Science Fair
DESCRIPTION:
URL:https://stjohn23rd.school/event/7th-8th-grade-science-fair/
END:VEVENT
BEGIN:VEVENT
DTSTART;TZID=America/Chicago:20260507T103000
DTEND;TZID=America/Chicago:20260507T113000
DTSTAMP:20260422T131920
CREATED:20250709T152352Z
LAST-MODIFIED:20260422T180904Z
UID:10001364-1778149800-1778153400@stjohn23rd.school
SUMMARY:Early Childhood Spring Program
DESCRIPTION:
URL:https://stjohn23rd.school/event/early-childhood-spring-program-3/
END:VEVENT
BEGIN:VEVENT
DTSTART;TZID=America/Chicago:20260507T112500
DTEND;TZID=America/Chicago:20260507T121000
DTSTAMP:20260422T131920
CREATED:20251016T172333Z
LAST-MODIFIED:20260215T163835Z
UID:10001488-1778153100-1778155800@stjohn23rd.school
SUMMARY:Student Council Meeting
DESCRIPTION:
URL:https://stjohn23rd.school/event/student-council-meeting-119/
END:VEVENT
BEGIN:VEVENT
DTSTART;TZID=America/Chicago:20260507T183000
DTEND;TZID=America/Chicago:20260507T193000
DTSTAMP:20260422T131920
CREATED:20250709T152352Z
LAST-MODIFIED:20260422T180904Z
UID:10001365-1778178600-1778182200@stjohn23rd.school
SUMMARY:Early Childhood Spring Program
DESCRIPTION:
URL:https://stjohn23rd.school/event/early-childhood-spring-program-4/
END:VEVENT
BEGIN:VEVENT
DTSTART;VALUE=DATE:20260508
DTEND;VALUE=DATE:20260509
DTSTAMP:20260422T131920
CREATED:20250709T152353Z
LAST-MODIFIED:20260422T180904Z
UID:10001366-1778198400-1778284799@stjohn23rd.school
SUMMARY:Shalom Wildlife Zoo Field Trip (K5\, 1st & 2nd Grade)
DESCRIPTION:
URL:https://stjohn23rd.school/event/shalom-wildlife-zoo-field-trip-1st-2nd-grade/
END:VEVENT
BEGIN:VEVENT
DTSTART;TZID=America/Chicago:20260509T183000
DTEND;TZID=America/Chicago:20260509T210000
DTSTAMP:20260422T131920
CREATED:20240509T005642Z
LAST-MODIFIED:20260422T180904Z
UID:10000614-1778351400-1778360400@stjohn23rd.school
SUMMARY:BINGO
DESCRIPTION:
URL:https://stjohn23rd.school/event/bingo-28/
LOCATION:School Cafeteria
END:VEVENT
BEGIN:VEVENT
DTSTART;VALUE=DATE:20260511
DTEND;VALUE=DATE:20260512
DTSTAMP:20260422T131920
CREATED:20250709T152354Z
LAST-MODIFIED:20260422T180847Z
UID:10001368-1778457600-1778543999@stjohn23rd.school
SUMMARY:Spring iReady Testing Begins (K5 - 8th Grade)
DESCRIPTION:
URL:https://stjohn23rd.school/event/spring-iready-testing-begins-k5-8th-grade/
END:VEVENT
END:VCALENDAR