BEGIN:VCALENDAR
VERSION:2.0
PRODID:-//St. John XXIII Catholic School - ECPv6.15.20//NONSGML v1.0//EN
CALSCALE:GREGORIAN
METHOD:PUBLISH
X-WR-CALNAME:St. John XXIII Catholic School
X-ORIGINAL-URL:https://stjohn23rd.school
X-WR-CALDESC:Events for St. John XXIII Catholic School
REFRESH-INTERVAL;VALUE=DURATION:PT1H
X-Robots-Tag:noindex
X-PUBLISHED-TTL:PT1H
BEGIN:VTIMEZONE
TZID:America/Chicago
BEGIN:DAYLIGHT
TZOFFSETFROM:-0600
TZOFFSETTO:-0500
TZNAME:CDT
DTSTART:20240310T080000
END:DAYLIGHT
BEGIN:STANDARD
TZOFFSETFROM:-0500
TZOFFSETTO:-0600
TZNAME:CST
DTSTART:20241103T070000
END:STANDARD
BEGIN:DAYLIGHT
TZOFFSETFROM:-0600
TZOFFSETTO:-0500
TZNAME:CDT
DTSTART:20250309T080000
END:DAYLIGHT
BEGIN:STANDARD
TZOFFSETFROM:-0500
TZOFFSETTO:-0600
TZNAME:CST
DTSTART:20251102T070000
END:STANDARD
BEGIN:DAYLIGHT
TZOFFSETFROM:-0600
TZOFFSETTO:-0500
TZNAME:CDT
DTSTART:20260308T080000
END:DAYLIGHT
BEGIN:STANDARD
TZOFFSETFROM:-0500
TZOFFSETTO:-0600
TZNAME:CST
DTSTART:20261101T070000
END:STANDARD
BEGIN:DAYLIGHT
TZOFFSETFROM:-0600
TZOFFSETTO:-0500
TZNAME:CDT
DTSTART:20270314T080000
END:DAYLIGHT
BEGIN:STANDARD
TZOFFSETFROM:-0500
TZOFFSETTO:-0600
TZNAME:CST
DTSTART:20271107T070000
END:STANDARD
END:VTIMEZONE
BEGIN:VEVENT
DTSTART;TZID=America/Chicago:20251217T133000
DTEND;TZID=America/Chicago:20251217T143000
DTSTAMP:20260420T132012
CREATED:20250709T152332Z
LAST-MODIFIED:20251216T235610Z
UID:10001334-1765978200-1765981800@stjohn23rd.school
SUMMARY:Christmas Program (1st - 8th Grade)
DESCRIPTION:
URL:https://stjohn23rd.school/event/christmas-program-1st-8th-grade-3/
END:VEVENT
BEGIN:VEVENT
DTSTART;TZID=America/Chicago:20251217T183000
DTEND;TZID=America/Chicago:20251217T193000
DTSTAMP:20260420T132012
CREATED:20250709T152332Z
LAST-MODIFIED:20251216T235610Z
UID:10001335-1765996200-1765999800@stjohn23rd.school
SUMMARY:Christmas Program (1st - 8th Grade)
DESCRIPTION:
URL:https://stjohn23rd.school/event/christmas-program-1st-8th-grade-4/
END:VEVENT
BEGIN:VEVENT
DTSTART;VALUE=DATE:20251218
DTEND;VALUE=DATE:20251219
DTSTAMP:20260420T132012
CREATED:20251006T190855Z
LAST-MODIFIED:20251218T232612Z
UID:10001469-1766016000-1766102399@stjohn23rd.school
SUMMARY:Wear a Christmas Sweater Today (& spread Christmas Cheer!) *with Uniform Bottoms
DESCRIPTION:
URL:https://stjohn23rd.school/event/wear-a-christmas-sweater-today-spread-christmas-cheer/
END:VEVENT
BEGIN:VEVENT
DTSTART;TZID=America/Chicago:20251218T112500
DTEND;TZID=America/Chicago:20251218T121000
DTSTAMP:20260420T132012
CREATED:20251016T172300Z
LAST-MODIFIED:20251218T180215Z
UID:10001479-1766057100-1766059800@stjohn23rd.school
SUMMARY:Student Council Meeting
DESCRIPTION:
URL:https://stjohn23rd.school/event/student-council-meeting-110/
END:VEVENT
BEGIN:VEVENT
DTSTART;VALUE=DATE:20251219
DTEND;VALUE=DATE:20251220
DTSTAMP:20260420T132012
CREATED:20250916T222514Z
LAST-MODIFIED:20251219T230929Z
UID:10001425-1766102400-1766188799@stjohn23rd.school
SUMMARY:Wear Christmas Pajamas Today (& spread Christmas Cheer!)
DESCRIPTION:
URL:https://stjohn23rd.school/event/spirit-day-team-jersey-or-spirit-wear-with-uniform-bottoms-9/
END:VEVENT
BEGIN:VEVENT
DTSTART;VALUE=DATE:20251219
DTEND;VALUE=DATE:20251220
DTSTAMP:20260420T132012
CREATED:20251125T210806Z
LAST-MODIFIED:20251219T230929Z
UID:10001510-1766102400-1766188799@stjohn23rd.school
SUMMARY:Student Council Humane Society Field Trip
DESCRIPTION:
URL:https://stjohn23rd.school/event/student-council-humane-society-field-trip/
END:VEVENT
BEGIN:VEVENT
DTSTART;TZID=America/Chicago:20251221T120000
DTEND;TZID=America/Chicago:20251221T150000
DTSTAMP:20260420T132012
CREATED:20250925T165320Z
LAST-MODIFIED:20251215T203750Z
UID:10001455-1766318400-1766329200@stjohn23rd.school
SUMMARY:Winter Gymboree
DESCRIPTION:
URL:https://stjohn23rd.school/event/winter-gymboree-31/
END:VEVENT
BEGIN:VEVENT
DTSTART;VALUE=DATE:20251222
DTEND;VALUE=DATE:20260103
DTSTAMP:20260420T132012
CREATED:20250224T184248Z
LAST-MODIFIED:20260102T233726Z
UID:10001225-1766361600-1767398399@stjohn23rd.school
SUMMARY:No School (Christmas Break)
DESCRIPTION:
URL:https://stjohn23rd.school/event/no-school-christmas-break-2/
END:VEVENT
BEGIN:VEVENT
DTSTART;TZID=America/Chicago:20251223T090000
DTEND;TZID=America/Chicago:20251223T093000
DTSTAMP:20260420T132012
CREATED:20231223T004319Z
LAST-MODIFIED:20251223T142347Z
UID:10000360-1766480400-1766482200@stjohn23rd.school
SUMMARY:Mass
DESCRIPTION:
URL:https://stjohn23rd.school/event/mass-120/
END:VEVENT
BEGIN:VEVENT
DTSTART;TZID=America/Chicago:20251224T115500
DTEND;TZID=America/Chicago:20251224T123000
DTSTAMP:20260420T132012
CREATED:20240805T172534Z
LAST-MODIFIED:20240827T165950Z
UID:10000717-1766577300-1766579400@stjohn23rd.school
SUMMARY:Student Council Meeting
DESCRIPTION:
URL:https://stjohn23rd.school/event/student-council-meeting-67/
END:VEVENT
BEGIN:VEVENT
DTSTART;TZID=America/Chicago:20251230T090000
DTEND;TZID=America/Chicago:20251230T093000
DTSTAMP:20260420T132012
CREATED:20231230T002844Z
LAST-MODIFIED:20251230T143714Z
UID:10000361-1767085200-1767087000@stjohn23rd.school
SUMMARY:Mass
DESCRIPTION:
URL:https://stjohn23rd.school/event/mass-121/
END:VEVENT
BEGIN:VEVENT
DTSTART;TZID=America/Chicago:20251231T115500
DTEND;TZID=America/Chicago:20251231T123000
DTSTAMP:20260420T132012
CREATED:20240805T172534Z
LAST-MODIFIED:20240827T165951Z
UID:10000718-1767182100-1767184200@stjohn23rd.school
SUMMARY:Student Council Meeting
DESCRIPTION:
URL:https://stjohn23rd.school/event/student-council-meeting-68/
END:VEVENT
BEGIN:VEVENT
DTSTART;TZID=America/Chicago:20260101T112500
DTEND;TZID=America/Chicago:20260101T121000
DTSTAMP:20260420T132012
CREATED:20251016T172306Z
LAST-MODIFIED:20260101T173852Z
UID:10001480-1767266700-1767269400@stjohn23rd.school
SUMMARY:Student Council Meeting
DESCRIPTION:
URL:https://stjohn23rd.school/event/student-council-meeting-111/
END:VEVENT
BEGIN:VEVENT
DTSTART;VALUE=DATE:20260105
DTEND;VALUE=DATE:20260106
DTSTAMP:20260420T132012
CREATED:20250709T152333Z
LAST-MODIFIED:20260105T232449Z
UID:10001336-1767571200-1767657599@stjohn23rd.school
SUMMARY:Winter iReady Testing Begins (K5 - 8th Grade)
DESCRIPTION:
URL:https://stjohn23rd.school/event/winter-iready-testing-begins-k5-8th-grade/
END:VEVENT
BEGIN:VEVENT
DTSTART;VALUE=DATE:20260105
DTEND;VALUE=DATE:20260106
DTSTAMP:20260420T132012
CREATED:20250709T152333Z
LAST-MODIFIED:20260105T232449Z
UID:10001337-1767571200-1767657599@stjohn23rd.school
SUMMARY:Classes Resume...Welcome Back!
DESCRIPTION:
URL:https://stjohn23rd.school/event/classes-resume-welcome-back/
END:VEVENT
BEGIN:VEVENT
DTSTART;TZID=America/Chicago:20260106T090000
DTEND;TZID=America/Chicago:20260106T093000
DTSTAMP:20260420T132012
CREATED:20240106T003007Z
LAST-MODIFIED:20260106T144231Z
UID:10000365-1767690000-1767691800@stjohn23rd.school
SUMMARY:Mass
DESCRIPTION:
URL:https://stjohn23rd.school/event/mass-122/
END:VEVENT
BEGIN:VEVENT
DTSTART;TZID=America/Chicago:20260107T115500
DTEND;TZID=America/Chicago:20260107T123000
DTSTAMP:20260420T132012
CREATED:20240805T172534Z
LAST-MODIFIED:20240827T165951Z
UID:10000719-1767786900-1767789000@stjohn23rd.school
SUMMARY:Student Council Meeting
DESCRIPTION:
URL:https://stjohn23rd.school/event/student-council-meeting-69/
END:VEVENT
BEGIN:VEVENT
DTSTART;TZID=America/Chicago:20260110T183000
DTEND;TZID=America/Chicago:20260110T210000
DTSTAMP:20260420T132012
CREATED:20240111T004240Z
LAST-MODIFIED:20260111T020754Z
UID:10000390-1768069800-1768078800@stjohn23rd.school
SUMMARY:BINGO
DESCRIPTION:
URL:https://stjohn23rd.school/event/bingo-24/
LOCATION:School Cafeteria
END:VEVENT
BEGIN:VEVENT
DTSTART;TZID=America/Chicago:20260113T090000
DTEND;TZID=America/Chicago:20260113T093000
DTSTAMP:20260420T132012
CREATED:20240113T004623Z
LAST-MODIFIED:20260113T151414Z
UID:10000391-1768294800-1768296600@stjohn23rd.school
SUMMARY:Mass
DESCRIPTION:
URL:https://stjohn23rd.school/event/mass-123/
END:VEVENT
BEGIN:VEVENT
DTSTART;VALUE=DATE:20260114
DTEND;VALUE=DATE:20260115
DTSTAMP:20260420T132012
CREATED:20250709T152334Z
LAST-MODIFIED:20260114T235300Z
UID:10001338-1768348800-1768435199@stjohn23rd.school
SUMMARY:8th Grade Portrait Picture Day | Clubs/Groups/Sports Picture Day
DESCRIPTION:
URL:https://stjohn23rd.school/event/8th-grade-portrait-picture-day-clubs-groups-sports-picture-day/
END:VEVENT
BEGIN:VEVENT
DTSTART;TZID=America/Chicago:20260114T115500
DTEND;TZID=America/Chicago:20260114T123000
DTSTAMP:20260420T132012
CREATED:20240805T172535Z
LAST-MODIFIED:20240827T165952Z
UID:10000720-1768391700-1768393800@stjohn23rd.school
SUMMARY:Student Council Meeting
DESCRIPTION:
URL:https://stjohn23rd.school/event/student-council-meeting-70/
END:VEVENT
BEGIN:VEVENT
DTSTART;TZID=America/Chicago:20260115T112500
DTEND;TZID=America/Chicago:20260115T121000
DTSTAMP:20260420T132012
CREATED:20251016T172309Z
LAST-MODIFIED:20260115T180751Z
UID:10001481-1768476300-1768479000@stjohn23rd.school
SUMMARY:Student Council Meeting
DESCRIPTION:
URL:https://stjohn23rd.school/event/student-council-meeting-112/
END:VEVENT
BEGIN:VEVENT
DTSTART;VALUE=DATE:20260116
DTEND;VALUE=DATE:20260117
DTSTAMP:20260420T132012
CREATED:20250916T222516Z
LAST-MODIFIED:20260116T235224Z
UID:10001426-1768521600-1768607999@stjohn23rd.school
SUMMARY:Mother & Son Bowling Event
DESCRIPTION:SIGN UP LINK: https://stjohn23rd.ccbchurch.com/goto/forms/343/responses/new
URL:https://stjohn23rd.school/event/mother-son-bowling-event-2/
END:VEVENT
BEGIN:VEVENT
DTSTART;VALUE=DATE:20260119
DTEND;VALUE=DATE:20260120
DTSTAMP:20260420T132012
CREATED:20250224T184305Z
LAST-MODIFIED:20260119T232806Z
UID:10001226-1768780800-1768867199@stjohn23rd.school
SUMMARY:No School for Students (Teacher Learning Day)
DESCRIPTION:
URL:https://stjohn23rd.school/event/no-school-for-students-teacher-learning-day-2/
END:VEVENT
BEGIN:VEVENT
DTSTART;VALUE=DATE:20260119
DTEND;VALUE=DATE:20260321
DTSTAMP:20260420T132012
CREATED:20260113T185248Z
LAST-MODIFIED:20260320T110910Z
UID:10001530-1768780800-1774051199@stjohn23rd.school
SUMMARY:Yearbook Ordering Open - Closes March 20th!
DESCRIPTION:Order your yearbook here!
URL:https://stjohn23rd.school/event/yearbook-ordering-open-closes-march-20th/
END:VEVENT
BEGIN:VEVENT
DTSTART;TZID=America/Chicago:20260120T090000
DTEND;TZID=America/Chicago:20260120T093000
DTSTAMP:20260420T132012
CREATED:20240120T002921Z
LAST-MODIFIED:20260120T151032Z
UID:10000393-1768899600-1768901400@stjohn23rd.school
SUMMARY:Mass
DESCRIPTION:
URL:https://stjohn23rd.school/event/mass-124/
END:VEVENT
BEGIN:VEVENT
DTSTART;TZID=America/Chicago:20260120T183000
DTEND;TZID=America/Chicago:20260120T193000
DTSTAMP:20260420T132012
CREATED:20240121T001033Z
LAST-MODIFIED:20250610T005627Z
UID:10000394-1768933800-1768937400@stjohn23rd.school
SUMMARY:Home & School Meeting
DESCRIPTION:
URL:https://stjohn23rd.school/event/home-school-meeting-29/
END:VEVENT
BEGIN:VEVENT
DTSTART;TZID=America/Chicago:20260121T115500
DTEND;TZID=America/Chicago:20260121T123000
DTSTAMP:20260420T132012
CREATED:20240805T172535Z
LAST-MODIFIED:20240827T165952Z
UID:10000721-1768996500-1768998600@stjohn23rd.school
SUMMARY:Student Council Meeting
DESCRIPTION:
URL:https://stjohn23rd.school/event/student-council-meeting-71/
END:VEVENT
BEGIN:VEVENT
DTSTART;TZID=America/Chicago:20260121T153000
DTEND;TZID=America/Chicago:20260121T163000
DTSTAMP:20260420T132012
CREATED:20250709T152335Z
LAST-MODIFIED:20260121T221140Z
UID:10001339-1769009400-1769013000@stjohn23rd.school
SUMMARY:Extracurricular Clubs Session 2
DESCRIPTION:
URL:https://stjohn23rd.school/event/extracurricular-clubs-session-2-6/
END:VEVENT
BEGIN:VEVENT
DTSTART;VALUE=DATE:20260125
DTEND;VALUE=DATE:20260201
DTSTAMP:20260420T132012
CREATED:20250709T152335Z
LAST-MODIFIED:20260131T232551Z
UID:10001340-1769299200-1769903999@stjohn23rd.school
SUMMARY:Catholic Schools Week 2026
DESCRIPTION:
URL:https://stjohn23rd.school/event/catholic-schools-week-2026/
END:VEVENT
END:VCALENDAR