BEGIN:VCALENDAR
VERSION:2.0
PRODID:-//St. John XXIII Catholic School - ECPv6.15.20//NONSGML v1.0//EN
CALSCALE:GREGORIAN
METHOD:PUBLISH
X-ORIGINAL-URL:https://stjohn23rd.school
X-WR-CALDESC:Events for St. John XXIII Catholic School
REFRESH-INTERVAL;VALUE=DURATION:PT1H
X-Robots-Tag:noindex
X-PUBLISHED-TTL:PT1H
BEGIN:VTIMEZONE
TZID:America/Chicago
BEGIN:DAYLIGHT
TZOFFSETFROM:-0600
TZOFFSETTO:-0500
TZNAME:CDT
DTSTART:20250309T080000
END:DAYLIGHT
BEGIN:STANDARD
TZOFFSETFROM:-0500
TZOFFSETTO:-0600
TZNAME:CST
DTSTART:20251102T070000
END:STANDARD
BEGIN:DAYLIGHT
TZOFFSETFROM:-0600
TZOFFSETTO:-0500
TZNAME:CDT
DTSTART:20260308T080000
END:DAYLIGHT
BEGIN:STANDARD
TZOFFSETFROM:-0500
TZOFFSETTO:-0600
TZNAME:CST
DTSTART:20261101T070000
END:STANDARD
BEGIN:DAYLIGHT
TZOFFSETFROM:-0600
TZOFFSETTO:-0500
TZNAME:CDT
DTSTART:20270314T080000
END:DAYLIGHT
BEGIN:STANDARD
TZOFFSETFROM:-0500
TZOFFSETTO:-0600
TZNAME:CST
DTSTART:20271107T070000
END:STANDARD
END:VTIMEZONE
BEGIN:VEVENT
DTSTART;TZID=America/Chicago:20260520T173000
DTEND;TZID=America/Chicago:20260520T183000
DTSTAMP:20260420T141856
CREATED:20250709T152358Z
LAST-MODIFIED:20260420T190755Z
UID:10001376-1779298200-1779301800@stjohn23rd.school
SUMMARY:Spring Program (1st - 8th Grade)
DESCRIPTION:
URL:https://stjohn23rd.school/event/spring-program-1st-8th-grade-4/
END:VEVENT
BEGIN:VEVENT
DTSTART;TZID=America/Chicago:20260521T112500
DTEND;TZID=America/Chicago:20260521T121000
DTSTAMP:20260420T141856
CREATED:20251016T172337Z
LAST-MODIFIED:20260215T163859Z
UID:10001489-1779362700-1779365400@stjohn23rd.school
SUMMARY:Student Council Meeting
DESCRIPTION:
URL:https://stjohn23rd.school/event/student-council-meeting-120/
END:VEVENT
BEGIN:VEVENT
DTSTART;TZID=America/Chicago:20260524T140000
DTEND;TZID=America/Chicago:20260524T170000
DTSTAMP:20260420T141856
CREATED:20260220T160926Z
LAST-MODIFIED:20260420T190755Z
UID:10001663-1779631200-1779642000@stjohn23rd.school
SUMMARY:SJ23 Catholic School Babysitting Course
DESCRIPTION:
URL:https://stjohn23rd.school/event/st-john-xxiii-catholic-school-babysitting-course/
END:VEVENT
BEGIN:VEVENT
DTSTART;VALUE=DATE:20260525
DTEND;VALUE=DATE:20260526
DTSTAMP:20260420T141856
CREATED:20250709T152359Z
LAST-MODIFIED:20260420T190755Z
UID:10001377-1779667200-1779753599@stjohn23rd.school
SUMMARY:No School
DESCRIPTION:
URL:https://stjohn23rd.school/event/no-school-3/
END:VEVENT
BEGIN:VEVENT
DTSTART;TZID=America/Chicago:20260526T090000
DTEND;TZID=America/Chicago:20260526T093000
DTSTAMP:20260420T141856
CREATED:20240526T011152Z
LAST-MODIFIED:20260215T163859Z
UID:10000619-1779786000-1779787800@stjohn23rd.school
SUMMARY:Mass
DESCRIPTION:
URL:https://stjohn23rd.school/event/mass-142/
END:VEVENT
BEGIN:VEVENT
DTSTART;TZID=America/Chicago:20260526T090000
DTEND;TZID=America/Chicago:20260526T093000
DTSTAMP:20260420T141856
CREATED:20260215T175353Z
LAST-MODIFIED:20260420T190755Z
UID:10001566-1779786000-1779787800@stjohn23rd.school
SUMMARY:Mass ⛪️
DESCRIPTION:
URL:https://stjohn23rd.school/event/mass-%e2%9b%aa%ef%b8%8f-16/
END:VEVENT
BEGIN:VEVENT
DTSTART;TZID=America/Chicago:20260526T183000
DTEND;TZID=America/Chicago:20260526T193000
DTSTAMP:20260420T141856
CREATED:20250610T020847Z
LAST-MODIFIED:20260420T190755Z
UID:10001292-1779820200-1779823800@stjohn23rd.school
SUMMARY:PTO Meeting
DESCRIPTION:
URL:https://stjohn23rd.school/event/pto-meeting-5/
END:VEVENT
BEGIN:VEVENT
DTSTART;VALUE=DATE:20260529
DTEND;VALUE=DATE:20260530
DTSTAMP:20260420T141856
CREATED:20250709T152400Z
LAST-MODIFIED:20260420T190756Z
UID:10001379-1780012800-1780099199@stjohn23rd.school
SUMMARY:8th Grade Onsite Retreat
DESCRIPTION:
URL:https://stjohn23rd.school/event/8th-grade-onsite-retreat/
END:VEVENT
BEGIN:VEVENT
DTSTART;TZID=America/Chicago:20260529T103000
DTEND;TZID=America/Chicago:20260529T113000
DTSTAMP:20260420T141856
CREATED:20250709T152359Z
LAST-MODIFIED:20260420T190756Z
UID:10001378-1780050600-1780054200@stjohn23rd.school
SUMMARY:K5 Promotion
DESCRIPTION:
URL:https://stjohn23rd.school/event/k5-promotion-3/
END:VEVENT
BEGIN:VEVENT
DTSTART;TZID=America/Chicago:20260530T163000
DTEND;TZID=America/Chicago:20260530T180000
DTSTAMP:20260420T141856
CREATED:20250709T152401Z
LAST-MODIFIED:20260420T190756Z
UID:10001380-1780158600-1780164000@stjohn23rd.school
SUMMARY:8th Grade Graduation
DESCRIPTION:
URL:https://stjohn23rd.school/event/8th-grade-graduation-2/
END:VEVENT
BEGIN:VEVENT
DTSTART;VALUE=DATE:20260601
DTEND;VALUE=DATE:20260604
DTSTAMP:20260420T141856
CREATED:20250709T152402Z
LAST-MODIFIED:20260420T190756Z
UID:10001382-1780272000-1780531199@stjohn23rd.school
SUMMARY:8th Grade Class Trip
DESCRIPTION:
URL:https://stjohn23rd.school/event/8th-grade-class-trip/
END:VEVENT
BEGIN:VEVENT
DTSTART;TZID=America/Chicago:20260602T090000
DTEND;TZID=America/Chicago:20260602T093000
DTSTAMP:20260420T141856
CREATED:20240602T005234Z
LAST-MODIFIED:20260215T163859Z
UID:10000620-1780390800-1780392600@stjohn23rd.school
SUMMARY:Mass
DESCRIPTION:
URL:https://stjohn23rd.school/event/mass-143/
END:VEVENT
BEGIN:VEVENT
DTSTART;TZID=America/Chicago:20260602T090000
DTEND;TZID=America/Chicago:20260602T093000
DTSTAMP:20260420T141856
CREATED:20260215T175407Z
LAST-MODIFIED:20260420T190756Z
UID:10001567-1780390800-1780392600@stjohn23rd.school
SUMMARY:Mass ⛪️
DESCRIPTION:
URL:https://stjohn23rd.school/event/mass-%e2%9b%aa%ef%b8%8f-17/
END:VEVENT
BEGIN:VEVENT
DTSTART;VALUE=DATE:20260603
DTEND;VALUE=DATE:20260604
DTSTAMP:20260420T141856
CREATED:20260415T140812Z
LAST-MODIFIED:20260420T190756Z
UID:10001690-1780444800-1780531199@stjohn23rd.school
SUMMARY:Moving On Up Day
DESCRIPTION:
URL:https://stjohn23rd.school/event/moving-on-up-day-2/
END:VEVENT
BEGIN:VEVENT
DTSTART;TZID=America/Chicago:20260603T144500
DTEND;TZID=America/Chicago:20260603T151500
DTSTAMP:20260420T141856
CREATED:20260317T194011Z
LAST-MODIFIED:20260420T190756Z
UID:10001673-1780497900-1780499700@stjohn23rd.school
SUMMARY:K4 Celebration Signing
DESCRIPTION:Room 141/142
URL:https://stjohn23rd.school/event/k4-celebration-signing/
END:VEVENT
BEGIN:VEVENT
DTSTART;VALUE=DATE:20260604
DTEND;VALUE=DATE:20260605
DTSTAMP:20260420T141856
CREATED:20250709T152402Z
LAST-MODIFIED:20260420T190756Z
UID:10001383-1780531200-1780617599@stjohn23rd.school
SUMMARY:Field Day 🏆
DESCRIPTION:
URL:https://stjohn23rd.school/event/field-day-4/
END:VEVENT
BEGIN:VEVENT
DTSTART;TZID=America/Chicago:20260604T090000
DTEND;TZID=America/Chicago:20260604T100000
DTSTAMP:20260420T141856
CREATED:20250709T152401Z
LAST-MODIFIED:20260420T190756Z
UID:10001381-1780563600-1780567200@stjohn23rd.school
SUMMARY:8th Grade School Recognition Mass
DESCRIPTION:
URL:https://stjohn23rd.school/event/8th-grade-school-recognition-mass-2/
END:VEVENT
BEGIN:VEVENT
DTSTART;TZID=America/Chicago:20260604T094500
DTEND;TZID=America/Chicago:20260604T101500
DTSTAMP:20260420T141856
CREATED:20260415T140814Z
LAST-MODIFIED:20260420T190756Z
UID:10001692-1780566300-1780568100@stjohn23rd.school
SUMMARY:8th Grade Breakfast
DESCRIPTION:
URL:https://stjohn23rd.school/event/8th-grade-breakfast/
END:VEVENT
BEGIN:VEVENT
DTSTART;TZID=America/Chicago:20260604T101500
DTEND;TZID=America/Chicago:20260604T113000
DTSTAMP:20260420T141856
CREATED:20260415T140813Z
LAST-MODIFIED:20260420T190756Z
UID:10001691-1780568100-1780572600@stjohn23rd.school
SUMMARY:8th Grade Class Awards & Success Stories
DESCRIPTION:8th Grade ONLY dismissed at 11:30
URL:https://stjohn23rd.school/event/8th-grade-class-awards-success-stories/
END:VEVENT
BEGIN:VEVENT
DTSTART;VALUE=DATE:20260605
DTEND;VALUE=DATE:20260606
DTSTAMP:20260420T141856
CREATED:20250709T152403Z
LAST-MODIFIED:20260420T190756Z
UID:10001384-1780617600-1780703999@stjohn23rd.school
SUMMARY:Last Day of School
DESCRIPTION:
URL:https://stjohn23rd.school/event/last-day-of-school-2/
END:VEVENT
BEGIN:VEVENT
DTSTART;VALUE=DATE:20260605
DTEND;VALUE=DATE:20260606
DTSTAMP:20260420T141856
CREATED:20250916T222529Z
LAST-MODIFIED:20260420T190756Z
UID:10001431-1780617600-1780703999@stjohn23rd.school
SUMMARY:Out of Uniform Day!
DESCRIPTION:
URL:https://stjohn23rd.school/event/out-of-uniform-day-14/
END:VEVENT
BEGIN:VEVENT
DTSTART;TZID=America/Chicago:20260605T090000
DTEND;TZID=America/Chicago:20260605T100000
DTSTAMP:20260420T141856
CREATED:20260318T163807Z
LAST-MODIFIED:20260420T190756Z
UID:10001675-1780650000-1780653600@stjohn23rd.school
SUMMARY:Summer Blessing & Mission Awards
DESCRIPTION:
URL:https://stjohn23rd.school/event/prayer-service-2/
END:VEVENT
BEGIN:VEVENT
DTSTART;TZID=America/Chicago:20260605T103000
DTEND;TZID=America/Chicago:20260605T113000
DTSTAMP:20260420T141856
CREATED:20250709T152403Z
LAST-MODIFIED:20260420T190756Z
UID:10001385-1780655400-1780659000@stjohn23rd.school
SUMMARY:Foam Fun Run
DESCRIPTION:
URL:https://stjohn23rd.school/event/color-run-2/
END:VEVENT
BEGIN:VEVENT
DTSTART;TZID=America/Chicago:20260605T113500
DTEND;TZID=America/Chicago:20260605T113500
DTSTAMP:20260420T141856
CREATED:20250709T152405Z
LAST-MODIFIED:20260420T190756Z
UID:10001386-1780659300-1780659300@stjohn23rd.school
SUMMARY:Early Dismissal...Have a Wonderful Summer!
DESCRIPTION:
URL:https://stjohn23rd.school/event/early-dismissal-have-a-wonderful-summer/
END:VEVENT
BEGIN:VEVENT
DTSTART;TZID=America/Chicago:20260609T090000
DTEND;TZID=America/Chicago:20260609T093000
DTSTAMP:20260420T141856
CREATED:20240609T005225Z
LAST-MODIFIED:20260215T163912Z
UID:10000623-1780995600-1780997400@stjohn23rd.school
SUMMARY:Mass
DESCRIPTION:
URL:https://stjohn23rd.school/event/mass-144/
END:VEVENT
BEGIN:VEVENT
DTSTART;TZID=America/Chicago:20260609T090000
DTEND;TZID=America/Chicago:20260609T093000
DTSTAMP:20260420T141856
CREATED:20260215T175420Z
LAST-MODIFIED:20260420T190757Z
UID:10001568-1780995600-1780997400@stjohn23rd.school
SUMMARY:Mass ⛪️
DESCRIPTION:
URL:https://stjohn23rd.school/event/mass-%e2%9b%aa%ef%b8%8f-18/
END:VEVENT
BEGIN:VEVENT
DTSTART;TZID=America/Chicago:20260613T183000
DTEND;TZID=America/Chicago:20260613T210000
DTSTAMP:20260420T141856
CREATED:20240613T163314Z
LAST-MODIFIED:20260121T002447Z
UID:10000625-1781375400-1781384400@stjohn23rd.school
SUMMARY:BINGO
DESCRIPTION:
URL:https://stjohn23rd.school/event/bingo-29/
LOCATION:School Cafeteria
END:VEVENT
BEGIN:VEVENT
DTSTART;TZID=America/Chicago:20260616T090000
DTEND;TZID=America/Chicago:20260616T093000
DTSTAMP:20260420T141856
CREATED:20240616T002412Z
LAST-MODIFIED:20260215T163912Z
UID:10000626-1781600400-1781602200@stjohn23rd.school
SUMMARY:Mass
DESCRIPTION:
URL:https://stjohn23rd.school/event/mass-145/
END:VEVENT
BEGIN:VEVENT
DTSTART;TZID=America/Chicago:20260616T090000
DTEND;TZID=America/Chicago:20260616T093000
DTSTAMP:20260420T141856
CREATED:20260215T175422Z
LAST-MODIFIED:20260420T190757Z
UID:10001569-1781600400-1781602200@stjohn23rd.school
SUMMARY:Mass ⛪️
DESCRIPTION:
URL:https://stjohn23rd.school/event/mass-%e2%9b%aa%ef%b8%8f-19/
END:VEVENT
BEGIN:VEVENT
DTSTART;TZID=America/Chicago:20260616T183000
DTEND;TZID=America/Chicago:20260616T193000
DTSTAMP:20260420T141856
CREATED:20240616T002412Z
LAST-MODIFIED:20250610T005630Z
UID:10000627-1781634600-1781638200@stjohn23rd.school
SUMMARY:Home & School Meeting
DESCRIPTION:
URL:https://stjohn23rd.school/event/home-school-meeting-34/
END:VEVENT
END:VCALENDAR