BEGIN:VCALENDAR
VERSION:2.0
PRODID:-//St. John XXIII Catholic School - ECPv6.15.20//NONSGML v1.0//EN
CALSCALE:GREGORIAN
METHOD:PUBLISH
X-WR-CALNAME:St. John XXIII Catholic School
X-ORIGINAL-URL:https://stjohn23rd.school
X-WR-CALDESC:Events for St. John XXIII Catholic School
REFRESH-INTERVAL;VALUE=DURATION:PT1H
X-Robots-Tag:noindex
X-PUBLISHED-TTL:PT1H
BEGIN:VTIMEZONE
TZID:America/Chicago
BEGIN:DAYLIGHT
TZOFFSETFROM:-0600
TZOFFSETTO:-0500
TZNAME:CDT
DTSTART:20240310T080000
END:DAYLIGHT
BEGIN:STANDARD
TZOFFSETFROM:-0500
TZOFFSETTO:-0600
TZNAME:CST
DTSTART:20241103T070000
END:STANDARD
BEGIN:DAYLIGHT
TZOFFSETFROM:-0600
TZOFFSETTO:-0500
TZNAME:CDT
DTSTART:20250309T080000
END:DAYLIGHT
BEGIN:STANDARD
TZOFFSETFROM:-0500
TZOFFSETTO:-0600
TZNAME:CST
DTSTART:20251102T070000
END:STANDARD
BEGIN:DAYLIGHT
TZOFFSETFROM:-0600
TZOFFSETTO:-0500
TZNAME:CDT
DTSTART:20260308T080000
END:DAYLIGHT
BEGIN:STANDARD
TZOFFSETFROM:-0500
TZOFFSETTO:-0600
TZNAME:CST
DTSTART:20261101T070000
END:STANDARD
END:VTIMEZONE
BEGIN:VEVENT
DTSTART;TZID=America/Chicago:20251024T150500
DTEND;TZID=America/Chicago:20251024T153500
DTSTAMP:20260424T184353
CREATED:20251013T165236Z
LAST-MODIFIED:20251024T195639Z
UID:10001472-1761318300-1761320100@stjohn23rd.school
SUMMARY:Middle School Flex- Penny War Kick Off
DESCRIPTION:
URL:https://stjohn23rd.school/event/middle-school-flex-penny-war-kick-off/
END:VEVENT
BEGIN:VEVENT
DTSTART;TZID=America/Chicago:20251024T114500
DTEND;TZID=America/Chicago:20251024T141500
DTSTAMP:20260424T184353
CREATED:20250613T183818Z
LAST-MODIFIED:20251024T185758Z
UID:10001309-1761306300-1761315300@stjohn23rd.school
SUMMARY:Ozaukee Historical Society Field Trip (3rd-4th Grade)
DESCRIPTION:
URL:https://stjohn23rd.school/event/ozaukee-historical-society-field-trip-3rd-4th-grade/
END:VEVENT
BEGIN:VEVENT
DTSTART;VALUE=DATE:20251024
DTEND;VALUE=DATE:20251025
DTSTAMP:20260424T184353
CREATED:20250916T222502Z
LAST-MODIFIED:20251024T233731Z
UID:10001419-1761264000-1761350399@stjohn23rd.school
SUMMARY:Spirit Day (Team Jersey or Spirit Wear with Uniform Bottoms)
DESCRIPTION:
URL:https://stjohn23rd.school/event/spirit-day-team-jersey-or-spirit-wear-with-uniform-bottoms-5/
END:VEVENT
BEGIN:VEVENT
DTSTART;TZID=America/Chicago:20251022T115500
DTEND;TZID=America/Chicago:20251022T123000
DTSTAMP:20260424T184353
CREATED:20240805T172532Z
LAST-MODIFIED:20240827T165948Z
UID:10000708-1761134100-1761136200@stjohn23rd.school
SUMMARY:Student Council Meeting
DESCRIPTION:
URL:https://stjohn23rd.school/event/student-council-meeting-58/
END:VEVENT
BEGIN:VEVENT
DTSTART;TZID=America/Chicago:20251021T183000
DTEND;TZID=America/Chicago:20251021T193000
DTSTAMP:20260424T184353
CREATED:20231021T001322Z
LAST-MODIFIED:20250610T005625Z
UID:10000317-1761071400-1761075000@stjohn23rd.school
SUMMARY:Home & School Meeting
DESCRIPTION:
URL:https://stjohn23rd.school/event/home-school-meeting-26/
END:VEVENT
BEGIN:VEVENT
DTSTART;TZID=America/Chicago:20251021T090000
DTEND;TZID=America/Chicago:20251021T093000
DTSTAMP:20260424T184353
CREATED:20231021T001322Z
LAST-MODIFIED:20251021T134127Z
UID:10000316-1761037200-1761039000@stjohn23rd.school
SUMMARY:Mass
DESCRIPTION:
URL:https://stjohn23rd.school/event/mass-111/
END:VEVENT
BEGIN:VEVENT
DTSTART;TZID=America/Chicago:20251017T153000
DTEND;TZID=America/Chicago:20251017T163000
DTSTAMP:20260424T184353
CREATED:20250613T183818Z
LAST-MODIFIED:20251017T212446Z
UID:10001308-1760715000-1760718600@stjohn23rd.school
SUMMARY:PWHS Homecoming Parade
DESCRIPTION:
URL:https://stjohn23rd.school/event/pwhs-homecoming-parade/
END:VEVENT
BEGIN:VEVENT
DTSTART;VALUE=DATE:20251017
DTEND;VALUE=DATE:20251018
DTSTAMP:20260424T184353
CREATED:20250916T222501Z
LAST-MODIFIED:20251017T233957Z
UID:10001418-1760659200-1760745599@stjohn23rd.school
SUMMARY:Spirit Day (Team Jersey or Spirit Wear with Uniform Bottoms)
DESCRIPTION:
URL:https://stjohn23rd.school/event/spirit-day-team-jersey-or-spirit-wear-with-uniform-bottoms-4/
END:VEVENT
BEGIN:VEVENT
DTSTART;TZID=America/Chicago:20251015T153000
DTEND;TZID=America/Chicago:20251015T163000
DTSTAMP:20260424T184353
CREATED:20250613T183817Z
LAST-MODIFIED:20251015T212526Z
UID:10001307-1760542200-1760545800@stjohn23rd.school
SUMMARY:Extracurricular Clubs (Session 1)
DESCRIPTION:
URL:https://stjohn23rd.school/event/extracurricular-clubs-session-1-8/
END:VEVENT
BEGIN:VEVENT
DTSTART;TZID=America/Chicago:20251015T115500
DTEND;TZID=America/Chicago:20251015T123000
DTSTAMP:20260424T184353
CREATED:20240805T172531Z
LAST-MODIFIED:20240827T165948Z
UID:10000707-1760529300-1760531400@stjohn23rd.school
SUMMARY:Student Council Meeting
DESCRIPTION:
URL:https://stjohn23rd.school/event/student-council-meeting-57/
END:VEVENT
BEGIN:VEVENT
DTSTART;TZID=America/Chicago:20251014T183000
DTEND;TZID=America/Chicago:20251014T193000
DTSTAMP:20260424T184353
CREATED:20231014T002235Z
LAST-MODIFIED:20240104T162659Z
UID:10000315-1760466600-1760470200@stjohn23rd.school
SUMMARY:School Advisory Commission
DESCRIPTION:Join with Google Hangouts: https://plus.google.com/hangouts/_/portcatholic.org/portcatholic?hceid=cG9ydGNhdGhvbGljQGdtYWlsLmNvbQ.2a69dvmal0ns80unb7jpod7t5s&hs=121
URL:https://stjohn23rd.school/event/school-advisory-commission-26/
END:VEVENT
BEGIN:VEVENT
DTSTART;TZID=America/Chicago:20251014T130000
DTEND;TZID=America/Chicago:20251014T140000
DTSTAMP:20260424T184353
CREATED:20250930T205239Z
LAST-MODIFIED:20251014T175624Z
UID:10001461-1760446800-1760450400@stjohn23rd.school
SUMMARY:Port Washington Police Department Beam Signage
DESCRIPTION:1:00-1:10- 1st & 2nd Grade\n1:10-1:20- 5th & 6th Grade\n1:20-1:30- 8th & K4\n1:40-1:50- 7th & K5\n1:50-2:00- 3rd & 4th
URL:https://stjohn23rd.school/event/port-washington-police-department-beam-signage/
END:VEVENT
BEGIN:VEVENT
DTSTART;TZID=America/Chicago:20251014T090000
DTEND;TZID=America/Chicago:20251014T093000
DTSTAMP:20260424T184353
CREATED:20231014T002235Z
LAST-MODIFIED:20251014T141343Z
UID:10000314-1760432400-1760434200@stjohn23rd.school
SUMMARY:Mass
DESCRIPTION:
URL:https://stjohn23rd.school/event/mass-110/
END:VEVENT
BEGIN:VEVENT
DTSTART;TZID=America/Chicago:20251011T183000
DTEND;TZID=America/Chicago:20251011T210000
DTSTAMP:20260424T184353
CREATED:20240108T191218Z
LAST-MODIFIED:20250613T172640Z
UID:10000386-1760207400-1760216400@stjohn23rd.school
SUMMARY:BINGO
DESCRIPTION:
URL:https://stjohn23rd.school/event/bingo-21/
LOCATION:School Cafeteria
END:VEVENT
BEGIN:VEVENT
DTSTART;VALUE=DATE:20251011
DTEND;VALUE=DATE:20251012
DTSTAMP:20260424T184353
CREATED:20250613T183803Z
LAST-MODIFIED:20250918T125334Z
UID:10001306-1760140800-1760227199@stjohn23rd.school
SUMMARY:SJ23 Oktoberfest
DESCRIPTION:
URL:https://stjohn23rd.school/event/st-john-xxiii-catholic-parish-school-family-fall-fest/
END:VEVENT
BEGIN:VEVENT
DTSTART;TZID=America/Chicago:20251010T103000
DTEND;TZID=America/Chicago:20251010T123000
DTSTAMP:20260424T184353
CREATED:20250508T142810Z
LAST-MODIFIED:20251010T162328Z
UID:10001271-1760092200-1760099400@stjohn23rd.school
SUMMARY:Catholic Schools Walk
DESCRIPTION:
URL:https://stjohn23rd.school/event/catholic-schools-walk-3/
LOCATION:Upper Lake Park\, 498 Lake St\, Port Washington\, WI\, United States
GEO:43.39347;-87.865988
X-APPLE-STRUCTURED-LOCATION;VALUE=URI;X-ADDRESS=Upper Lake Park 498 Lake St Port Washington WI United States;X-APPLE-RADIUS=500;X-TITLE=498 Lake St:geo:-87.865988,43.39347
END:VEVENT
BEGIN:VEVENT
DTSTART;TZID=America/Chicago:20251009T091500
DTEND;TZID=America/Chicago:20251009T104500
DTSTAMP:20260424T184353
CREATED:20250613T183802Z
LAST-MODIFIED:20251009T154042Z
UID:10001305-1760001300-1760006700@stjohn23rd.school
SUMMARY:Picture Retake Day
DESCRIPTION:
URL:https://stjohn23rd.school/event/picture-retake-day-2/
END:VEVENT
BEGIN:VEVENT
DTSTART;TZID=America/Chicago:20251008T115500
DTEND;TZID=America/Chicago:20251008T123000
DTSTAMP:20260424T184353
CREATED:20240805T172531Z
LAST-MODIFIED:20240827T165948Z
UID:10000706-1759924500-1759926600@stjohn23rd.school
SUMMARY:Student Council Meeting
DESCRIPTION:
URL:https://stjohn23rd.school/event/student-council-meeting-56/
END:VEVENT
BEGIN:VEVENT
DTSTART;TZID=America/Chicago:20251008T103000
DTEND;TZID=America/Chicago:20251008T112000
DTSTAMP:20260424T184353
CREATED:20250917T170803Z
LAST-MODIFIED:20251008T161143Z
UID:10001452-1759919400-1759922400@stjohn23rd.school
SUMMARY:3rd Grade - Fire Safety Visit with Fire Department
DESCRIPTION:
URL:https://stjohn23rd.school/event/1st-grade-fire-safety-visit-with-fire-department/
END:VEVENT
BEGIN:VEVENT
DTSTART;TZID=America/Chicago:20251008T093500
DTEND;TZID=America/Chicago:20251008T102500
DTSTAMP:20260424T184353
CREATED:20250917T170802Z
LAST-MODIFIED:20251008T150735Z
UID:10001451-1759916100-1759919100@stjohn23rd.school
SUMMARY:1st Grade - Fire Safety Visit with Fire Department
DESCRIPTION:
URL:https://stjohn23rd.school/event/3rd-grade-fire-safety-visit-with-fire-department/
END:VEVENT
BEGIN:VEVENT
DTSTART;TZID=America/Chicago:20251007T090000
DTEND;TZID=America/Chicago:20251007T093000
DTSTAMP:20260424T184353
CREATED:20231007T005531Z
LAST-MODIFIED:20251007T140031Z
UID:10000310-1759827600-1759829400@stjohn23rd.school
SUMMARY:Mass
DESCRIPTION:
URL:https://stjohn23rd.school/event/mass-109/
END:VEVENT
BEGIN:VEVENT
DTSTART;VALUE=DATE:20251005
DTEND;VALUE=DATE:20251012
DTSTAMP:20260424T184353
CREATED:20250916T222500Z
LAST-MODIFIED:20251011T233737Z
UID:10001417-1759622400-1760227199@stjohn23rd.school
SUMMARY:Fire Safety Week
DESCRIPTION:
URL:https://stjohn23rd.school/event/fire-safety-week-2/
END:VEVENT
BEGIN:VEVENT
DTSTART;VALUE=DATE:20251004
DTEND;VALUE=DATE:20251005
DTSTAMP:20260424T184353
CREATED:20250804T172257Z
LAST-MODIFIED:20251004T225953Z
UID:10001394-1759536000-1759622399@stjohn23rd.school
SUMMARY:BINGO
DESCRIPTION:
URL:https://stjohn23rd.school/event/bingo-44/
END:VEVENT
BEGIN:VEVENT
DTSTART;VALUE=DATE:20251003
DTEND;VALUE=DATE:20251004
DTSTAMP:20260424T184353
CREATED:20250224T184209Z
LAST-MODIFIED:20251003T235305Z
UID:10001221-1759449600-1759535999@stjohn23rd.school
SUMMARY:No School for Students (Teacher Learning  Day)
DESCRIPTION:
URL:https://stjohn23rd.school/event/no-school-for-students-teacher-learning-day/
END:VEVENT
BEGIN:VEVENT
DTSTART;VALUE=DATE:20251002
DTEND;VALUE=DATE:20251003
DTSTAMP:20260424T184353
CREATED:20250916T222459Z
LAST-MODIFIED:20251002T232509Z
UID:10001416-1759363200-1759449599@stjohn23rd.school
SUMMARY:HOT LUNCH: STIR FRY
DESCRIPTION:
URL:https://stjohn23rd.school/event/hot-lunch-stir-fry/
END:VEVENT
BEGIN:VEVENT
DTSTART;VALUE=DATE:20251002
DTEND;VALUE=DATE:20251003
DTSTAMP:20260424T184353
CREATED:20250916T222458Z
LAST-MODIFIED:20251002T232509Z
UID:10001415-1759363200-1759449599@stjohn23rd.school
SUMMARY:Pajama Day (Bring $5)
DESCRIPTION:
URL:https://stjohn23rd.school/event/pajama-day-bring-5/
END:VEVENT
BEGIN:VEVENT
DTSTART;TZID=America/Chicago:20251001T153000
DTEND;TZID=America/Chicago:20251001T163000
DTSTAMP:20260424T184353
CREATED:20250613T183802Z
LAST-MODIFIED:20251001T205658Z
UID:10001304-1759332600-1759336200@stjohn23rd.school
SUMMARY:Extracurricular Clubs (Session 1)
DESCRIPTION:
URL:https://stjohn23rd.school/event/extracurricular-clubs-session-1-7/
END:VEVENT
BEGIN:VEVENT
DTSTART;TZID=America/Chicago:20251001T115500
DTEND;TZID=America/Chicago:20251001T123000
DTSTAMP:20260424T184353
CREATED:20240805T172531Z
LAST-MODIFIED:20240827T165948Z
UID:10000705-1759319700-1759321800@stjohn23rd.school
SUMMARY:Student Council Meeting
DESCRIPTION:
URL:https://stjohn23rd.school/event/student-council-meeting-55/
END:VEVENT
BEGIN:VEVENT
DTSTART;VALUE=DATE:20251001
DTEND;VALUE=DATE:20251002
DTSTAMP:20260424T184353
CREATED:20250916T222456Z
LAST-MODIFIED:20251001T232416Z
UID:10001413-1759276800-1759363199@stjohn23rd.school
SUMMARY:Out of Uniform Day (Bring $5)
DESCRIPTION:
URL:https://stjohn23rd.school/event/out-of-uniform-day-bring-5/
END:VEVENT
BEGIN:VEVENT
DTSTART;TZID=America/Chicago:20250930T090000
DTEND;TZID=America/Chicago:20250930T093000
DTSTAMP:20260424T184353
CREATED:20230930T003945Z
LAST-MODIFIED:20250930T133755Z
UID:10000303-1759222800-1759224600@stjohn23rd.school
SUMMARY:Mass
DESCRIPTION:
URL:https://stjohn23rd.school/event/mass-108/
END:VEVENT
END:VCALENDAR