BEGIN:VCALENDAR
VERSION:2.0
PRODID:-//St. John XXIII Catholic School - ECPv6.15.20//NONSGML v1.0//EN
CALSCALE:GREGORIAN
METHOD:PUBLISH
X-WR-CALNAME:St. John XXIII Catholic School
X-ORIGINAL-URL:https://stjohn23rd.school
X-WR-CALDESC:Events for St. John XXIII Catholic School
REFRESH-INTERVAL;VALUE=DURATION:PT1H
X-Robots-Tag:noindex
X-PUBLISHED-TTL:PT1H
BEGIN:VTIMEZONE
TZID:America/Chicago
BEGIN:DAYLIGHT
TZOFFSETFROM:-0600
TZOFFSETTO:-0500
TZNAME:CDT
DTSTART:20250309T080000
END:DAYLIGHT
BEGIN:STANDARD
TZOFFSETFROM:-0500
TZOFFSETTO:-0600
TZNAME:CST
DTSTART:20251102T070000
END:STANDARD
BEGIN:DAYLIGHT
TZOFFSETFROM:-0600
TZOFFSETTO:-0500
TZNAME:CDT
DTSTART:20260308T080000
END:DAYLIGHT
BEGIN:STANDARD
TZOFFSETFROM:-0500
TZOFFSETTO:-0600
TZNAME:CST
DTSTART:20261101T070000
END:STANDARD
BEGIN:DAYLIGHT
TZOFFSETFROM:-0600
TZOFFSETTO:-0500
TZNAME:CDT
DTSTART:20270314T080000
END:DAYLIGHT
BEGIN:STANDARD
TZOFFSETFROM:-0500
TZOFFSETTO:-0600
TZNAME:CST
DTSTART:20271107T070000
END:STANDARD
END:VTIMEZONE
BEGIN:VEVENT
DTSTART;TZID=America/Chicago:20260630T090000
DTEND;TZID=America/Chicago:20260630T093000
DTSTAMP:20260424T220542
CREATED:20240630T001745Z
LAST-MODIFIED:20260215T163924Z
UID:10000630-1782810000-1782811800@stjohn23rd.school
SUMMARY:Mass
DESCRIPTION:
URL:https://stjohn23rd.school/event/mass-147/
END:VEVENT
BEGIN:VEVENT
DTSTART;TZID=America/Chicago:20260630T090000
DTEND;TZID=America/Chicago:20260630T093000
DTSTAMP:20260424T220542
CREATED:20260215T175424Z
LAST-MODIFIED:20260425T025433Z
UID:10001571-1782810000-1782811800@stjohn23rd.school
SUMMARY:Mass ⛪️
DESCRIPTION:
URL:https://stjohn23rd.school/event/mass-%e2%9b%aa%ef%b8%8f-21/
END:VEVENT
BEGIN:VEVENT
DTSTART;VALUE=DATE:20260703
DTEND;VALUE=DATE:20260704
DTSTAMP:20260424T220542
CREATED:20250916T222531Z
LAST-MODIFIED:20260215T163925Z
UID:10001432-1783036800-1783123199@stjohn23rd.school
SUMMARY:Out of Uniform Day!
DESCRIPTION:
URL:https://stjohn23rd.school/event/out-of-uniform-day-15/
END:VEVENT
BEGIN:VEVENT
DTSTART;TZID=America/Chicago:20260707T090000
DTEND;TZID=America/Chicago:20260707T093000
DTSTAMP:20260424T220542
CREATED:20240707T011011Z
LAST-MODIFIED:20260215T163925Z
UID:10000631-1783414800-1783416600@stjohn23rd.school
SUMMARY:Mass
DESCRIPTION:
URL:https://stjohn23rd.school/event/mass-148/
END:VEVENT
BEGIN:VEVENT
DTSTART;TZID=America/Chicago:20260707T090000
DTEND;TZID=America/Chicago:20260707T093000
DTSTAMP:20260424T220542
CREATED:20260215T175425Z
LAST-MODIFIED:20260425T025433Z
UID:10001572-1783414800-1783416600@stjohn23rd.school
SUMMARY:Mass ⛪️
DESCRIPTION:
URL:https://stjohn23rd.school/event/mass-%e2%9b%aa%ef%b8%8f-22/
END:VEVENT
BEGIN:VEVENT
DTSTART;TZID=America/Chicago:20260711T183000
DTEND;TZID=America/Chicago:20260711T210000
DTSTAMP:20260424T220542
CREATED:20240711T005145Z
LAST-MODIFIED:20260425T025433Z
UID:10000633-1783794600-1783803600@stjohn23rd.school
SUMMARY:BINGO
DESCRIPTION:
URL:https://stjohn23rd.school/event/bingo-30/
LOCATION:School Cafeteria
END:VEVENT
BEGIN:VEVENT
DTSTART;TZID=America/Chicago:20260714T090000
DTEND;TZID=America/Chicago:20260714T093000
DTSTAMP:20260424T220542
CREATED:20240714T001144Z
LAST-MODIFIED:20260215T163925Z
UID:10000634-1784019600-1784021400@stjohn23rd.school
SUMMARY:Mass
DESCRIPTION:
URL:https://stjohn23rd.school/event/mass-149/
END:VEVENT
BEGIN:VEVENT
DTSTART;TZID=America/Chicago:20260714T090000
DTEND;TZID=America/Chicago:20260714T093000
DTSTAMP:20260424T220542
CREATED:20260215T175427Z
LAST-MODIFIED:20260425T025433Z
UID:10001573-1784019600-1784021400@stjohn23rd.school
SUMMARY:Mass ⛪️
DESCRIPTION:
URL:https://stjohn23rd.school/event/mass-%e2%9b%aa%ef%b8%8f-23/
END:VEVENT
BEGIN:VEVENT
DTSTART;TZID=America/Chicago:20260721T090000
DTEND;TZID=America/Chicago:20260721T093000
DTSTAMP:20260424T220542
CREATED:20240721T001531Z
LAST-MODIFIED:20260215T163925Z
UID:10000635-1784624400-1784626200@stjohn23rd.school
SUMMARY:Mass
DESCRIPTION:
URL:https://stjohn23rd.school/event/mass-150/
END:VEVENT
BEGIN:VEVENT
DTSTART;TZID=America/Chicago:20260721T090000
DTEND;TZID=America/Chicago:20260721T093000
DTSTAMP:20260424T220542
CREATED:20260215T175428Z
LAST-MODIFIED:20260425T025433Z
UID:10001574-1784624400-1784626200@stjohn23rd.school
SUMMARY:Mass ⛪️
DESCRIPTION:
URL:https://stjohn23rd.school/event/mass-%e2%9b%aa%ef%b8%8f-24/
END:VEVENT
BEGIN:VEVENT
DTSTART;TZID=America/Chicago:20260721T183000
DTEND;TZID=America/Chicago:20260721T193000
DTSTAMP:20260424T220542
CREATED:20240721T001531Z
LAST-MODIFIED:20250610T005630Z
UID:10000636-1784658600-1784662200@stjohn23rd.school
SUMMARY:Home & School Meeting
DESCRIPTION:
URL:https://stjohn23rd.school/event/home-school-meeting-35/
END:VEVENT
BEGIN:VEVENT
DTSTART;VALUE=DATE:20260727
DTEND;VALUE=DATE:20260801
DTSTAMP:20260424T220542
CREATED:20260211T215435Z
LAST-MODIFIED:20260425T025434Z
UID:10001546-1785110400-1785542399@stjohn23rd.school
SUMMARY:CRE Summer School
DESCRIPTION:
URL:https://stjohn23rd.school/event/cre-summer-school/
END:VEVENT
BEGIN:VEVENT
DTSTART;TZID=America/Chicago:20260728T090000
DTEND;TZID=America/Chicago:20260728T093000
DTSTAMP:20260424T220542
CREATED:20240728T010557Z
LAST-MODIFIED:20260215T163925Z
UID:10000637-1785229200-1785231000@stjohn23rd.school
SUMMARY:Mass
DESCRIPTION:
URL:https://stjohn23rd.school/event/mass-151/
END:VEVENT
BEGIN:VEVENT
DTSTART;TZID=America/Chicago:20260728T090000
DTEND;TZID=America/Chicago:20260728T093000
DTSTAMP:20260424T220542
CREATED:20260215T175430Z
LAST-MODIFIED:20260425T025433Z
UID:10001575-1785229200-1785231000@stjohn23rd.school
SUMMARY:Mass ⛪️
DESCRIPTION:
URL:https://stjohn23rd.school/event/mass-%e2%9b%aa%ef%b8%8f-25/
END:VEVENT
BEGIN:VEVENT
DTSTART;TZID=America/Chicago:20260731T183000
DTEND;TZID=America/Chicago:20260731T203000
DTSTAMP:20260424T220542
CREATED:20260318T163833Z
LAST-MODIFIED:20260425T025449Z
UID:10001676-1785522600-1785529800@stjohn23rd.school
SUMMARY:SJ23 Parish Pool Party
DESCRIPTION:
URL:https://stjohn23rd.school/event/sj23-parish-pool-party/
END:VEVENT
BEGIN:VEVENT
DTSTART;VALUE=DATE:20260801
DTEND;VALUE=DATE:20260821
DTSTAMP:20260424T220542
CREATED:20260130T191129Z
LAST-MODIFIED:20260425T025434Z
UID:10001539-1785542400-1787270399@stjohn23rd.school
SUMMARY:School Choice Enrollment
DESCRIPTION:Apply Here
URL:https://stjohn23rd.school/event/school-choice-enrollment/
END:VEVENT
BEGIN:VEVENT
DTSTART;VALUE=DATE:20260803
DTEND;VALUE=DATE:20260808
DTSTAMP:20260424T220542
CREATED:20260211T215449Z
LAST-MODIFIED:20260425T025449Z
UID:10001547-1785715200-1786147199@stjohn23rd.school
SUMMARY:CRE Summer School
DESCRIPTION:
URL:https://stjohn23rd.school/event/cre-summer-school-2/
END:VEVENT
BEGIN:VEVENT
DTSTART;TZID=America/Chicago:20260804T090000
DTEND;TZID=America/Chicago:20260804T093000
DTSTAMP:20260424T220542
CREATED:20240804T000853Z
LAST-MODIFIED:20260215T163936Z
UID:10000647-1785834000-1785835800@stjohn23rd.school
SUMMARY:Mass
DESCRIPTION:
URL:https://stjohn23rd.school/event/mass-152/
END:VEVENT
BEGIN:VEVENT
DTSTART;TZID=America/Chicago:20260804T090000
DTEND;TZID=America/Chicago:20260804T093000
DTSTAMP:20260424T220542
CREATED:20260215T175445Z
LAST-MODIFIED:20260425T025434Z
UID:10001576-1785834000-1785835800@stjohn23rd.school
SUMMARY:Mass ⛪️
DESCRIPTION:
URL:https://stjohn23rd.school/event/mass-%e2%9b%aa%ef%b8%8f-26/
END:VEVENT
BEGIN:VEVENT
DTSTART;VALUE=DATE:20260807
DTEND;VALUE=DATE:20260808
DTSTAMP:20260424T220542
CREATED:20250916T222533Z
LAST-MODIFIED:20260215T163925Z
UID:10001433-1786060800-1786147199@stjohn23rd.school
SUMMARY:Out of Uniform Day!
DESCRIPTION:
URL:https://stjohn23rd.school/event/out-of-uniform-day-16/
END:VEVENT
BEGIN:VEVENT
DTSTART;TZID=America/Chicago:20260808T183000
DTEND;TZID=America/Chicago:20260808T210000
DTSTAMP:20260424T220542
CREATED:20241120T151040Z
LAST-MODIFIED:20260425T025449Z
UID:10001147-1786213800-1786222800@stjohn23rd.school
SUMMARY:BINGO
DESCRIPTION:
URL:https://stjohn23rd.school/event/bingo-31/
LOCATION:School Cafeteria
END:VEVENT
BEGIN:VEVENT
DTSTART;TZID=America/Chicago:20260811T090000
DTEND;TZID=America/Chicago:20260811T093000
DTSTAMP:20260424T220542
CREATED:20241120T151040Z
LAST-MODIFIED:20260215T163936Z
UID:10001148-1786438800-1786440600@stjohn23rd.school
SUMMARY:Mass
DESCRIPTION:
URL:https://stjohn23rd.school/event/mass-153/
END:VEVENT
BEGIN:VEVENT
DTSTART;TZID=America/Chicago:20260811T090000
DTEND;TZID=America/Chicago:20260811T093000
DTSTAMP:20260424T220542
CREATED:20260215T175446Z
LAST-MODIFIED:20260425T025449Z
UID:10001577-1786438800-1786440600@stjohn23rd.school
SUMMARY:Mass ⛪️
DESCRIPTION:
URL:https://stjohn23rd.school/event/mass-%e2%9b%aa%ef%b8%8f-27/
END:VEVENT
BEGIN:VEVENT
DTSTART;TZID=America/Chicago:20260818T090000
DTEND;TZID=America/Chicago:20260818T093000
DTSTAMP:20260424T220542
CREATED:20241120T151040Z
LAST-MODIFIED:20260215T163937Z
UID:10001149-1787043600-1787045400@stjohn23rd.school
SUMMARY:Mass
DESCRIPTION:
URL:https://stjohn23rd.school/event/mass-154/
END:VEVENT
BEGIN:VEVENT
DTSTART;TZID=America/Chicago:20260818T090000
DTEND;TZID=America/Chicago:20260818T093000
DTSTAMP:20260424T220542
CREATED:20260215T175448Z
LAST-MODIFIED:20260425T025449Z
UID:10001578-1787043600-1787045400@stjohn23rd.school
SUMMARY:Mass ⛪️
DESCRIPTION:
URL:https://stjohn23rd.school/event/mass-%e2%9b%aa%ef%b8%8f-28/
END:VEVENT
BEGIN:VEVENT
DTSTART;TZID=America/Chicago:20260818T183000
DTEND;TZID=America/Chicago:20260818T193000
DTSTAMP:20260424T220542
CREATED:20241120T151040Z
LAST-MODIFIED:20250610T005631Z
UID:10001150-1787077800-1787081400@stjohn23rd.school
SUMMARY:Home & School Meeting
DESCRIPTION:
URL:https://stjohn23rd.school/event/home-school-meeting-36/
END:VEVENT
BEGIN:VEVENT
DTSTART;TZID=America/Chicago:20260825T090000
DTEND;TZID=America/Chicago:20260825T093000
DTSTAMP:20260424T220542
CREATED:20241120T151041Z
LAST-MODIFIED:20260215T163937Z
UID:10001151-1787648400-1787650200@stjohn23rd.school
SUMMARY:Mass
DESCRIPTION:
URL:https://stjohn23rd.school/event/mass-155/
END:VEVENT
BEGIN:VEVENT
DTSTART;TZID=America/Chicago:20260825T090000
DTEND;TZID=America/Chicago:20260825T093000
DTSTAMP:20260424T220542
CREATED:20260215T175449Z
LAST-MODIFIED:20260425T025449Z
UID:10001579-1787648400-1787650200@stjohn23rd.school
SUMMARY:Mass ⛪️
DESCRIPTION:
URL:https://stjohn23rd.school/event/mass-%e2%9b%aa%ef%b8%8f-29/
END:VEVENT
BEGIN:VEVENT
DTSTART;TZID=America/Chicago:20260827T150000
DTEND;TZID=America/Chicago:20260827T180000
DTSTAMP:20260424T220542
CREATED:20260422T185352Z
LAST-MODIFIED:20260425T025449Z
UID:10001695-1787842800-1787853600@stjohn23rd.school
SUMMARY:Picture Day (Pre-3-7th Grade & Staff)
DESCRIPTION:
URL:https://stjohn23rd.school/event/picture-day-pre-3-7th-grade-staff/
END:VEVENT
BEGIN:VEVENT
DTSTART;TZID=America/Chicago:20260827T150000
DTEND;TZID=America/Chicago:20260827T180000
DTSTAMP:20260424T220542
CREATED:20260422T185359Z
LAST-MODIFIED:20260425T025451Z
UID:10001696-1787842800-1787853600@stjohn23rd.school
SUMMARY:Back to School Night & Supply Drop-Off
DESCRIPTION:
URL:https://stjohn23rd.school/event/back-to-school-night-supply-drop-off/
END:VEVENT
END:VCALENDAR